Workbook

Sheet Year summary
A1: Team PTO calendar
A2: Type names once here; they appear on every month tab. Mark days off on the month tabs.
A3: Year | B3: 2027
A4: Hours in a workday | B4: 8
A6: Employee | B6: Team or role | C6: Annual PTO (days) | D6: V days | E6: S days | F6: P days | G6: F days | H6: U days | I6: PTO days left | J6: PTO hours used
D7: ='Jan'!AG7+'Feb'!AG7+'Mar'!AG7+'Apr'!AG7+'May'!AG7+'Jun'!AG7+'Jul'!AG7+'Aug'!AG7+'Sep'!AG7+'Oct'!AG7+'Nov'!AG7+'Dec'!AG7 | E7: ='Jan'!AH7+'Feb'!AH7+'Mar'!AH7+'Apr'!AH7+'May'!AH7+'Jun'!AH7+'Jul'!AH7+'Aug'!AH7+'Sep'!AH7+'Oct'!AH7+'Nov'!AH7+'Dec'!AH7 | F7: ='Jan'!AI7+'Feb'!AI7+'Mar'!AI7+'Apr'!AI7+'May'!AI7+'Jun'!AI7+'Jul'!AI7+'Aug'!AI7+'Sep'!AI7+'Oct'!AI7+'Nov'!AI7+'Dec'!AI7 | G7: ='Jan'!AJ7+'Feb'!AJ7+'Mar'!AJ7+'Apr'!AJ7+'May'!AJ7+'Jun'!AJ7+'Jul'!AJ7+'Aug'!AJ7+'Sep'!AJ7+'Oct'!AJ7+'Nov'!AJ7+'Dec'!AJ7 | H7: ='Jan'!AK7+'Feb'!AK7+'Mar'!AK7+'Apr'!AK7+'May'!AK7+'Jun'!AK7+'Jul'!AK7+'Aug'!AK7+'Sep'!AK7+'Oct'!AK7+'Nov'!AK7+'Dec'!AK7 | I7: =IF(C7="","",C7-D7-F7) | J7: =(D7+F7)*$B$4
D8: ='Jan'!AG8+'Feb'!AG8+'Mar'!AG8+'Apr'!AG8+'May'!AG8+'Jun'!AG8+'Jul'!AG8+'Aug'!AG8+'Sep'!AG8+'Oct'!AG8+'Nov'!AG8+'Dec'!AG8 | E8: ='Jan'!AH8+'Feb'!AH8+'Mar'!AH8+'Apr'!AH8+'May'!AH8+'Jun'!AH8+'Jul'!AH8+'Aug'!AH8+'Sep'!AH8+'Oct'!AH8+'Nov'!AH8+'Dec'!AH8 | F8: ='Jan'!AI8+'Feb'!AI8+'Mar'!AI8+'Apr'!AI8+'May'!AI8+'Jun'!AI8+'Jul'!AI8+'Aug'!AI8+'Sep'!AI8+'Oct'!AI8+'Nov'!AI8+'Dec'!AI8 | G8: ='Jan'!AJ8+'Feb'!AJ8+'Mar'!AJ8+'Apr'!AJ8+'May'!AJ8+'Jun'!AJ8+'Jul'!AJ8+'Aug'!AJ8+'Sep'!AJ8+'Oct'!AJ8+'Nov'!AJ8+'Dec'!AJ8 | H8: ='Jan'!AK8+'Feb'!AK8+'Mar'!AK8+'Apr'!AK8+'May'!AK8+'Jun'!AK8+'Jul'!AK8+'Aug'!AK8+'Sep'!AK8+'Oct'!AK8+'Nov'!AK8+'Dec'!AK8 | I8: =IF(C8="","",C8-D8-F8) | J8: =(D8+F8)*$B$4
D9: ='Jan'!AG9+'Feb'!AG9+'Mar'!AG9+'Apr'!AG9+'May'!AG9+'Jun'!AG9+'Jul'!AG9+'Aug'!AG9+'Sep'!AG9+'Oct'!AG9+'Nov'!AG9+'Dec'!AG9 | E9: ='Jan'!AH9+'Feb'!AH9+'Mar'!AH9+'Apr'!AH9+'May'!AH9+'Jun'!AH9+'Jul'!AH9+'Aug'!AH9+'Sep'!AH9+'Oct'!AH9+'Nov'!AH9+'Dec'!AH9 | F9: ='Jan'!AI9+'Feb'!AI9+'Mar'!AI9+'Apr'!AI9+'May'!AI9+'Jun'!AI9+'Jul'!AI9+'Aug'!AI9+'Sep'!AI9+'Oct'!AI9+'Nov'!AI9+'Dec'!AI9 | G9: ='Jan'!AJ9+'Feb'!AJ9+'Mar'!AJ9+'Apr'!AJ9+'May'!AJ9+'Jun'!AJ9+'Jul'!AJ9+'Aug'!AJ9+'Sep'!AJ9+'Oct'!AJ9+'Nov'!AJ9+'Dec'!AJ9 | H9: ='Jan'!AK9+'Feb'!AK9+'Mar'!AK9+'Apr'!AK9+'May'!AK9+'Jun'!AK9+'Jul'!AK9+'Aug'!AK9+'Sep'!AK9+'Oct'!AK9+'Nov'!AK9+'Dec'!AK9 | I9: =IF(C9="","",C9-D9-F9) | J9: =(D9+F9)*$B$4
D10: ='Jan'!AG10+'Feb'!AG10+'Mar'!AG10+'Apr'!AG10+'May'!AG10+'Jun'!AG10+'Jul'!AG10+'Aug'!AG10+'Sep'!AG10+'Oct'!AG10+'Nov'!AG10+'Dec'!AG10 | E10: ='Jan'!AH10+'Feb'!AH10+'Mar'!AH10+'Apr'!AH10+'May'!AH10+'Jun'!AH10+'Jul'!AH10+'Aug'!AH10+'Sep'!AH10+'Oct'!AH10+'Nov'!AH10+'Dec'!AH10 | F10: ='Jan'!AI10+'Feb'!AI10+'Mar'!AI10+'Apr'!AI10+'May'!AI10+'Jun'!AI10+'Jul'!AI10+'Aug'!AI10+'Sep'!AI10+'Oct'!AI10+'Nov'!AI10+'Dec'!AI10 | G10: ='Jan'!AJ10+'Feb'!AJ10+'Mar'!AJ10+'Apr'!AJ10+'May'!AJ10+'Jun'!AJ10+'Jul'!AJ10+'Aug'!AJ10+'Sep'!AJ10+'Oct'!AJ10+'Nov'!AJ10+'Dec'!AJ10 | H10: ='Jan'!AK10+'Feb'!AK10+'Mar'!AK10+'Apr'!AK10+'May'!AK10+'Jun'!AK10+'Jul'!AK10+'Aug'!AK10+'Sep'!AK10+'Oct'!AK10+'Nov'!AK10+'Dec'!AK10 | I10: =IF(C10="","",C10-D10-F10) | J10: =(D10+F10)*$B$4
D11: ='Jan'!AG11+'Feb'!AG11+'Mar'!AG11+'Apr'!AG11+'May'!AG11+'Jun'!AG11+'Jul'!AG11+'Aug'!AG11+'Sep'!AG11+'Oct'!AG11+'Nov'!AG11+'Dec'!AG11 | E11: ='Jan'!AH11+'Feb'!AH11+'Mar'!AH11+'Apr'!AH11+'May'!AH11+'Jun'!AH11+'Jul'!AH11+'Aug'!AH11+'Sep'!AH11+'Oct'!AH11+'Nov'!AH11+'Dec'!AH11 | F11: ='Jan'!AI11+'Feb'!AI11+'Mar'!AI11+'Apr'!AI11+'May'!AI11+'Jun'!AI11+'Jul'!AI11+'Aug'!AI11+'Sep'!AI11+'Oct'!AI11+'Nov'!AI11+'Dec'!AI11 | G11: ='Jan'!AJ11+'Feb'!AJ11+'Mar'!AJ11+'Apr'!AJ11+'May'!AJ11+'Jun'!AJ11+'Jul'!AJ11+'Aug'!AJ11+'Sep'!AJ11+'Oct'!AJ11+'Nov'!AJ11+'Dec'!AJ11 | H11: ='Jan'!AK11+'Feb'!AK11+'Mar'!AK11+'Apr'!AK11+'May'!AK11+'Jun'!AK11+'Jul'!AK11+'Aug'!AK11+'Sep'!AK11+'Oct'!AK11+'Nov'!AK11+'Dec'!AK11 | I11: =IF(C11="","",C11-D11-F11) | J11: =(D11+F11)*$B$4
D12: ='Jan'!AG12+'Feb'!AG12+'Mar'!AG12+'Apr'!AG12+'May'!AG12+'Jun'!AG12+'Jul'!AG12+'Aug'!AG12+'Sep'!AG12+'Oct'!AG12+'Nov'!AG12+'Dec'!AG12 | E12: ='Jan'!AH12+'Feb'!AH12+'Mar'!AH12+'Apr'!AH12+'May'!AH12+'Jun'!AH12+'Jul'!AH12+'Aug'!AH12+'Sep'!AH12+'Oct'!AH12+'Nov'!AH12+'Dec'!AH12 | F12: ='Jan'!AI12+'Feb'!AI12+'Mar'!AI12+'Apr'!AI12+'May'!AI12+'Jun'!AI12+'Jul'!AI12+'Aug'!AI12+'Sep'!AI12+'Oct'!AI12+'Nov'!AI12+'Dec'!AI12 | G12: ='Jan'!AJ12+'Feb'!AJ12+'Mar'!AJ12+'Apr'!AJ12+'May'!AJ12+'Jun'!AJ12+'Jul'!AJ12+'Aug'!AJ12+'Sep'!AJ12+'Oct'!AJ12+'Nov'!AJ12+'Dec'!AJ12 | H12: ='Jan'!AK12+'Feb'!AK12+'Mar'!AK12+'Apr'!AK12+'May'!AK12+'Jun'!AK12+'Jul'!AK12+'Aug'!AK12+'Sep'!AK12+'Oct'!AK12+'Nov'!AK12+'Dec'!AK12 | I12: =IF(C12="","",C12-D12-F12) | J12: =(D12+F12)*$B$4
D13: ='Jan'!AG13+'Feb'!AG13+'Mar'!AG13+'Apr'!AG13+'May'!AG13+'Jun'!AG13+'Jul'!AG13+'Aug'!AG13+'Sep'!AG13+'Oct'!AG13+'Nov'!AG13+'Dec'!AG13 | E13: ='Jan'!AH13+'Feb'!AH13+'Mar'!AH13+'Apr'!AH13+'May'!AH13+'Jun'!AH13+'Jul'!AH13+'Aug'!AH13+'Sep'!AH13+'Oct'!AH13+'Nov'!AH13+'Dec'!AH13 | F13: ='Jan'!AI13+'Feb'!AI13+'Mar'!AI13+'Apr'!AI13+'May'!AI13+'Jun'!AI13+'Jul'!AI13+'Aug'!AI13+'Sep'!AI13+'Oct'!AI13+'Nov'!AI13+'Dec'!AI13 | G13: ='Jan'!AJ13+'Feb'!AJ13+'Mar'!AJ13+'Apr'!AJ13+'May'!AJ13+'Jun'!AJ13+'Jul'!AJ13+'Aug'!AJ13+'Sep'!AJ13+'Oct'!AJ13+'Nov'!AJ13+'Dec'!AJ13 | H13: ='Jan'!AK13+'Feb'!AK13+'Mar'!AK13+'Apr'!AK13+'May'!AK13+'Jun'!AK13+'Jul'!AK13+'Aug'!AK13+'Sep'!AK13+'Oct'!AK13+'Nov'!AK13+'Dec'!AK13 | I13: =IF(C13="","",C13-D13-F13) | J13: =(D13+F13)*$B$4
D14: ='Jan'!AG14+'Feb'!AG14+'Mar'!AG14+'Apr'!AG14+'May'!AG14+'Jun'!AG14+'Jul'!AG14+'Aug'!AG14+'Sep'!AG14+'Oct'!AG14+'Nov'!AG14+'Dec'!AG14 | E14: ='Jan'!AH14+'Feb'!AH14+'Mar'!AH14+'Apr'!AH14+'May'!AH14+'Jun'!AH14+'Jul'!AH14+'Aug'!AH14+'Sep'!AH14+'Oct'!AH14+'Nov'!AH14+'Dec'!AH14 | F14: ='Jan'!AI14+'Feb'!AI14+'Mar'!AI14+'Apr'!AI14+'May'!AI14+'Jun'!AI14+'Jul'!AI14+'Aug'!AI14+'Sep'!AI14+'Oct'!AI14+'Nov'!AI14+'Dec'!AI14 | G14: ='Jan'!AJ14+'Feb'!AJ14+'Mar'!AJ14+'Apr'!AJ14+'May'!AJ14+'Jun'!AJ14+'Jul'!AJ14+'Aug'!AJ14+'Sep'!AJ14+'Oct'!AJ14+'Nov'!AJ14+'Dec'!AJ14 | H14: ='Jan'!AK14+'Feb'!AK14+'Mar'!AK14+'Apr'!AK14+'May'!AK14+'Jun'!AK14+'Jul'!AK14+'Aug'!AK14+'Sep'!AK14+'Oct'!AK14+'Nov'!AK14+'Dec'!AK14 | I14: =IF(C14="","",C14-D14-F14) | J14: =(D14+F14)*$B$4
D15: ='Jan'!AG15+'Feb'!AG15+'Mar'!AG15+'Apr'!AG15+'May'!AG15+'Jun'!AG15+'Jul'!AG15+'Aug'!AG15+'Sep'!AG15+'Oct'!AG15+'Nov'!AG15+'Dec'!AG15 | E15: ='Jan'!AH15+'Feb'!AH15+'Mar'!AH15+'Apr'!AH15+'May'!AH15+'Jun'!AH15+'Jul'!AH15+'Aug'!AH15+'Sep'!AH15+'Oct'!AH15+'Nov'!AH15+'Dec'!AH15 | F15: ='Jan'!AI15+'Feb'!AI15+'Mar'!AI15+'Apr'!AI15+'May'!AI15+'Jun'!AI15+'Jul'!AI15+'Aug'!AI15+'Sep'!AI15+'Oct'!AI15+'Nov'!AI15+'Dec'!AI15 | G15: ='Jan'!AJ15+'Feb'!AJ15+'Mar'!AJ15+'Apr'!AJ15+'May'!AJ15+'Jun'!AJ15+'Jul'!AJ15+'Aug'!AJ15+'Sep'!AJ15+'Oct'!AJ15+'Nov'!AJ15+'Dec'!AJ15 | H15: ='Jan'!AK15+'Feb'!AK15+'Mar'!AK15+'Apr'!AK15+'May'!AK15+'Jun'!AK15+'Jul'!AK15+'Aug'!AK15+'Sep'!AK15+'Oct'!AK15+'Nov'!AK15+'Dec'!AK15 | I15: =IF(C15="","",C15-D15-F15) | J15: =(D15+F15)*$B$4
D16: ='Jan'!AG16+'Feb'!AG16+'Mar'!AG16+'Apr'!AG16+'May'!AG16+'Jun'!AG16+'Jul'!AG16+'Aug'!AG16+'Sep'!AG16+'Oct'!AG16+'Nov'!AG16+'Dec'!AG16 | E16: ='Jan'!AH16+'Feb'!AH16+'Mar'!AH16+'Apr'!AH16+'May'!AH16+'Jun'!AH16+'Jul'!AH16+'Aug'!AH16+'Sep'!AH16+'Oct'!AH16+'Nov'!AH16+'Dec'!AH16 | F16: ='Jan'!AI16+'Feb'!AI16+'Mar'!AI16+'Apr'!AI16+'May'!AI16+'Jun'!AI16+'Jul'!AI16+'Aug'!AI16+'Sep'!AI16+'Oct'!AI16+'Nov'!AI16+'Dec'!AI16 | G16: ='Jan'!AJ16+'Feb'!AJ16+'Mar'!AJ16+'Apr'!AJ16+'May'!AJ16+'Jun'!AJ16+'Jul'!AJ16+'Aug'!AJ16+'Sep'!AJ16+'Oct'!AJ16+'Nov'!AJ16+'Dec'!AJ16 | H16: ='Jan'!AK16+'Feb'!AK16+'Mar'!AK16+'Apr'!AK16+'May'!AK16+'Jun'!AK16+'Jul'!AK16+'Aug'!AK16+'Sep'!AK16+'Oct'!AK16+'Nov'!AK16+'Dec'!AK16 | I16: =IF(C16="","",C16-D16-F16) | J16: =(D16+F16)*$B$4
D17: ='Jan'!AG17+'Feb'!AG17+'Mar'!AG17+'Apr'!AG17+'May'!AG17+'Jun'!AG17+'Jul'!AG17+'Aug'!AG17+'Sep'!AG17+'Oct'!AG17+'Nov'!AG17+'Dec'!AG17 | E17: ='Jan'!AH17+'Feb'!AH17+'Mar'!AH17+'Apr'!AH17+'May'!AH17+'Jun'!AH17+'Jul'!AH17+'Aug'!AH17+'Sep'!AH17+'Oct'!AH17+'Nov'!AH17+'Dec'!AH17 | F17: ='Jan'!AI17+'Feb'!AI17+'Mar'!AI17+'Apr'!AI17+'May'!AI17+'Jun'!AI17+'Jul'!AI17+'Aug'!AI17+'Sep'!AI17+'Oct'!AI17+'Nov'!AI17+'Dec'!AI17 | G17: ='Jan'!AJ17+'Feb'!AJ17+'Mar'!AJ17+'Apr'!AJ17+'May'!AJ17+'Jun'!AJ17+'Jul'!AJ17+'Aug'!AJ17+'Sep'!AJ17+'Oct'!AJ17+'Nov'!AJ17+'Dec'!AJ17 | H17: ='Jan'!AK17+'Feb'!AK17+'Mar'!AK17+'Apr'!AK17+'May'!AK17+'Jun'!AK17+'Jul'!AK17+'Aug'!AK17+'Sep'!AK17+'Oct'!AK17+'Nov'!AK17+'Dec'!AK17 | I17: =IF(C17="","",C17-D17-F17) | J17: =(D17+F17)*$B$4
D18: ='Jan'!AG18+'Feb'!AG18+'Mar'!AG18+'Apr'!AG18+'May'!AG18+'Jun'!AG18+'Jul'!AG18+'Aug'!AG18+'Sep'!AG18+'Oct'!AG18+'Nov'!AG18+'Dec'!AG18 | E18: ='Jan'!AH18+'Feb'!AH18+'Mar'!AH18+'Apr'!AH18+'May'!AH18+'Jun'!AH18+'Jul'!AH18+'Aug'!AH18+'Sep'!AH18+'Oct'!AH18+'Nov'!AH18+'Dec'!AH18 | F18: ='Jan'!AI18+'Feb'!AI18+'Mar'!AI18+'Apr'!AI18+'May'!AI18+'Jun'!AI18+'Jul'!AI18+'Aug'!AI18+'Sep'!AI18+'Oct'!AI18+'Nov'!AI18+'Dec'!AI18 | G18: ='Jan'!AJ18+'Feb'!AJ18+'Mar'!AJ18+'Apr'!AJ18+'May'!AJ18+'Jun'!AJ18+'Jul'!AJ18+'Aug'!AJ18+'Sep'!AJ18+'Oct'!AJ18+'Nov'!AJ18+'Dec'!AJ18 | H18: ='Jan'!AK18+'Feb'!AK18+'Mar'!AK18+'Apr'!AK18+'May'!AK18+'Jun'!AK18+'Jul'!AK18+'Aug'!AK18+'Sep'!AK18+'Oct'!AK18+'Nov'!AK18+'Dec'!AK18 | I18: =IF(C18="","",C18-D18-F18) | J18: =(D18+F18)*$B$4
... D26: ='Jan'!AG26+'Feb'!AG26+'Mar'!AG26+'Apr'!AG26+'May'!AG26+'Jun'!AG26+'Jul'!AG26+'Aug'!AG26+'Sep'!AG26+'Oct'!AG26+'Nov'!AG26+'Dec'!AG26 | E26: ='Jan'!AH26+'Feb'!AH26+'Mar'!AH26+'Apr'!AH26+'May'!AH26+'Jun'!AH26+'Jul'!AH26+'Aug'!AH26+'Sep'!AH26+'Oct'!AH26+'Nov'!AH26+'Dec'!AH26 | F26: ='Jan'!AI26+'Feb'!AI26+'Mar'!AI26+'Apr'!AI26+'May'!AI26+'Jun'!AI26+'Jul'!AI26+'Aug'!AI26+'Sep'!AI26+'Oct'!AI26+'Nov'!AI26+'Dec'!AI26 | G26: ='Jan'!AJ26+'Feb'!AJ26+'Mar'!AJ26+'Apr'!AJ26+'May'!AJ26+'Jun'!AJ26+'Jul'!AJ26+'Aug'!AJ26+'Sep'!AJ26+'Oct'!AJ26+'Nov'!AJ26+'Dec'!AJ26 | H26: ='Jan'!AK26+'Feb'!AK26+'Mar'!AK26+'Apr'!AK26+'May'!AK26+'Jun'!AK26+'Jul'!AK26+'Aug'!AK26+'Sep'!AK26+'Oct'!AK26+'Nov'!AK26+'Dec'!AK26 | I26: =IF(C26="","",C26-D26-F26) | J26: =(D26+F26)*$B$4
A29: Company holidays (edit) | B29: Holiday
A30: 46023 | B30: New Year's Day
A31: 46041 | B31: Martin Luther King Jr. Day
A32: 46069 | B32: Washington's Birthday
A33: 46167 | B33: Memorial Day
A34: 46192 | B34: Juneteenth
A35: 46206 | B35: Independence Day (observed)
A36: 46272 | B36: Labor Day
A37: 46307 | B37: Columbus Day
A38: 46337 | B38: Veterans Day
A39: 46352 | B39: Thanksgiving Day
A40: 46381 | B40: Christmas Day
A41: 46388 | B41: New Year's Day
... A51: 46745 | B51: Christmas Day (observed)
A61: Codes on the month tabs: V = Vacation or PTO S = Sick P = Personal F = FMLA or other leave U = Unpaid. PTO days left = annual PTO - vacation/PTO days - personal days. Half days: type the code and adjust the total by hand.
A62: The holiday list starts with the 2026 and 2027 US federal holidays as observed; replace it with the holidays your business actually closes for.
A64: Free template from workzenly.com

Sheet Jan
A1: Team PTO calendar: January
A2: ='Year summary'!B3
A4: Employee | B4: =IF(MONTH(DATE('Year summary'!$B$3,1,1))<>1,"",1) | C4: =IF(MONTH(DATE('Year summary'!$B$3,1,2))<>1,"",2) | D4: =IF(MONTH(DATE('Year summary'!$B$3,1,3))<>1,"",3) | E4: =IF(MONTH(DATE('Year summary'!$B$3,1,4))<>1,"",4) | F4: =IF(MONTH(DATE('Year summary'!$B$3,1,5))<>1,"",5) | G4: =IF(MONTH(DATE('Year summary'!$B$3,1,6))<>1,"",6) | H4: =IF(MONTH(DATE('Year summary'!$B$3,1,7))<>1,"",7) | I4: =IF(MONTH(DATE('Year summary'!$B$3,1,8))<>1,"",8) | J4: =IF(MONTH(DATE('Year summary'!$B$3,1,9))<>1,"",9) | K4: =IF(MONTH(DATE('Year summary'!$B$3,1,10))<>1,"",10) | L4: =IF(MONTH(DATE('Year summary'!$B$3,1,11))<>1,"",11) | M4: =IF(MONTH(DATE('Year summary'!$B$3,1,12))<>1,"",12) | N4: =IF(MONTH(DATE('Year summary'!$B$3,1,13))<>1,"",13) | O4: =IF(MONTH(DATE('Year summary'!$B$3,1,14))<>1,"",14) | P4: =IF(MONTH(DATE('Year summary'!$B$3,1,15))<>1,"",15) | Q4: =IF(MONTH(DATE('Year summary'!$B$3,1,16))<>1,"",16) | R4: =IF(MONTH(DATE('Year summary'!$B$3,1,17))<>1,"",17) | S4: =IF(MONTH(DATE('Year summary'!$B$3,1,18))<>1,"",18) | T4: =IF(MONTH(DATE('Year summary'!$B$3,1,19))<>1,"",19) | U4: =IF(MONTH(DATE('Year summary'!$B$3,1,20))<>1,"",20) | V4: =IF(MONTH(DATE('Year summary'!$B$3,1,21))<>1,"",21) | W4: =IF(MONTH(DATE('Year summary'!$B$3,1,22))<>1,"",22) | X4: =IF(MONTH(DATE('Year summary'!$B$3,1,23))<>1,"",23) | Y4: =IF(MONTH(DATE('Year summary'!$B$3,1,24))<>1,"",24) | Z4: =IF(MONTH(DATE('Year summary'!$B$3,1,25))<>1,"",25) | AA4: =IF(MONTH(DATE('Year summary'!$B$3,1,26))<>1,"",26) | AB4: =IF(MONTH(DATE('Year summary'!$B$3,1,27))<>1,"",27) | AC4: =IF(MONTH(DATE('Year summary'!$B$3,1,28))<>1,"",28) | AD4: =IF(MONTH(DATE('Year summary'!$B$3,1,29))<>1,"",29) | AE4: =IF(MONTH(DATE('Year summary'!$B$3,1,30))<>1,"",30) | AF4: =IF(MONTH(DATE('Year summary'!$B$3,1,31))<>1,"",31) | AG4: V | AH4: S | AI4: P | AJ4: F | AK4: U
B5: =IF(MONTH(DATE('Year summary'!$B$3,1,1))<>1,"",LEFT(TEXT(DATE('Year summary'!$B$3,1,1),"ddd"),2)) | C5: =IF(MONTH(DATE('Year summary'!$B$3,1,2))<>1,"",LEFT(TEXT(DATE('Year summary'!$B$3,1,2),"ddd"),2)) | D5: =IF(MONTH(DATE('Year summary'!$B$3,1,3))<>1,"",LEFT(TEXT(DATE('Year summary'!$B$3,1,3),"ddd"),2)) | E5: =IF(MONTH(DATE('Year summary'!$B$3,1,4))<>1,"",LEFT(TEXT(DATE('Year summary'!$B$3,1,4),"ddd"),2)) | F5: =IF(MONTH(DATE('Year summary'!$B$3,1,5))<>1,"",LEFT(TEXT(DATE('Year summary'!$B$3,1,5),"ddd"),2)) | G5: =IF(MONTH(DATE('Year summary'!$B$3,1,6))<>1,"",LEFT(TEXT(DATE('Year summary'!$B$3,1,6),"ddd"),2)) | H5: =IF(MONTH(DATE('Year summary'!$B$3,1,7))<>1,"",LEFT(TEXT(DATE('Year summary'!$B$3,1,7),"ddd"),2)) | I5: =IF(MONTH(DATE('Year summary'!$B$3,1,8))<>1,"",LEFT(TEXT(DATE('Year summary'!$B$3,1,8),"ddd"),2)) | J5: =IF(MONTH(DATE('Year summary'!$B$3,1,9))<>1,"",LEFT(TEXT(DATE('Year summary'!$B$3,1,9),"ddd"),2)) | K5: =IF(MONTH(DATE('Year summary'!$B$3,1,10))<>1,"",LEFT(TEXT(DATE('Year summary'!$B$3,1,10),"ddd"),2)) | L5: =IF(MONTH(DATE('Year summary'!$B$3,1,11))<>1,"",LEFT(TEXT(DATE('Year summary'!$B$3,1,11),"ddd"),2)) | M5: =IF(MONTH(DATE('Year summary'!$B$3,1,12))<>1,"",LEFT(TEXT(DATE('Year summary'!$B$3,1,12),"ddd"),2)) | N5: =IF(MONTH(DATE('Year summary'!$B$3,1,13))<>1,"",LEFT(TEXT(DATE('Year summary'!$B$3,1,13),"ddd"),2)) | O5: =IF(MONTH(DATE('Year summary'!$B$3,1,14))<>1,"",LEFT(TEXT(DATE('Year summary'!$B$3,1,14),"ddd"),2)) | P5: =IF(MONTH(DATE('Year summary'!$B$3,1,15))<>1,"",LEFT(TEXT(DATE('Year summary'!$B$3,1,15),"ddd"),2)) | Q5: =IF(MONTH(DATE('Year summary'!$B$3,1,16))<>1,"",LEFT(TEXT(DATE('Year summary'!$B$3,1,16),"ddd"),2)) | R5: =IF(MONTH(DATE('Year summary'!$B$3,1,17))<>1,"",LEFT(TEXT(DATE('Year summary'!$B$3,1,17),"ddd"),2)) | S5: =IF(MONTH(DATE('Year summary'!$B$3,1,18))<>1,"",LEFT(TEXT(DATE('Year summary'!$B$3,1,18),"ddd"),2)) | T5: =IF(MONTH(DATE('Year summary'!$B$3,1,19))<>1,"",LEFT(TEXT(DATE('Year summary'!$B$3,1,19),"ddd"),2)) | U5: =IF(MONTH(DATE('Year summary'!$B$3,1,20))<>1,"",LEFT(TEXT(DATE('Year summary'!$B$3,1,20),"ddd"),2)) | V5: =IF(MONTH(DATE('Year summary'!$B$3,1,21))<>1,"",LEFT(TEXT(DATE('Year summary'!$B$3,1,21),"ddd"),2)) | W5: =IF(MONTH(DATE('Year summary'!$B$3,1,22))<>1,"",LEFT(TEXT(DATE('Year summary'!$B$3,1,22),"ddd"),2)) | X5: =IF(MONTH(DATE('Year summary'!$B$3,1,23))<>1,"",LEFT(TEXT(DATE('Year summary'!$B$3,1,23),"ddd"),2)) | Y5: =IF(MONTH(DATE('Year summary'!$B$3,1,24))<>1,"",LEFT(TEXT(DATE('Year summary'!$B$3,1,24),"ddd"),2)) | Z5: =IF(MONTH(DATE('Year summary'!$B$3,1,25))<>1,"",LEFT(TEXT(DATE('Year summary'!$B$3,1,25),"ddd"),2)) | AA5: =IF(MONTH(DATE('Year summary'!$B$3,1,26))<>1,"",LEFT(TEXT(DATE('Year summary'!$B$3,1,26),"ddd"),2)) | AB5: =IF(MONTH(DATE('Year summary'!$B$3,1,27))<>1,"",LEFT(TEXT(DATE('Year summary'!$B$3,1,27),"ddd"),2)) | AC5: =IF(MONTH(DATE('Year summary'!$B$3,1,28))<>1,"",LEFT(TEXT(DATE('Year summary'!$B$3,1,28),"ddd"),2)) | AD5: =IF(MONTH(DATE('Year summary'!$B$3,1,29))<>1,"",LEFT(TEXT(DATE('Year summary'!$B$3,1,29),"ddd"),2)) | AE5: =IF(MONTH(DATE('Year summary'!$B$3,1,30))<>1,"",LEFT(TEXT(DATE('Year summary'!$B$3,1,30),"ddd"),2)) | AF5: =IF(MONTH(DATE('Year summary'!$B$3,1,31))<>1,"",LEFT(TEXT(DATE('Year summary'!$B$3,1,31),"ddd"),2))
A6: Holiday | B6: =IF(B$4="","",IF(COUNTIF('Year summary'!$A$30:$A$59,DATE('Year summary'!$B$3,1,1))>0,"H","")) | C6: =IF(C$4="","",IF(COUNTIF('Year summary'!$A$30:$A$59,DATE('Year summary'!$B$3,1,2))>0,"H","")) | D6: =IF(D$4="","",IF(COUNTIF('Year summary'!$A$30:$A$59,DATE('Year summary'!$B$3,1,3))>0,"H","")) | E6: =IF(E$4="","",IF(COUNTIF('Year summary'!$A$30:$A$59,DATE('Year summary'!$B$3,1,4))>0,"H","")) | F6: =IF(F$4="","",IF(COUNTIF('Year summary'!$A$30:$A$59,DATE('Year summary'!$B$3,1,5))>0,"H","")) | G6: =IF(G$4="","",IF(COUNTIF('Year summary'!$A$30:$A$59,DATE('Year summary'!$B$3,1,6))>0,"H","")) | H6: =IF(H$4="","",IF(COUNTIF('Year summary'!$A$30:$A$59,DATE('Year summary'!$B$3,1,7))>0,"H","")) | I6: =IF(I$4="","",IF(COUNTIF('Year summary'!$A$30:$A$59,DATE('Year summary'!$B$3,1,8))>0,"H","")) | J6: =IF(J$4="","",IF(COUNTIF('Year summary'!$A$30:$A$59,DATE('Year summary'!$B$3,1,9))>0,"H","")) | K6: =IF(K$4="","",IF(COUNTIF('Year summary'!$A$30:$A$59,DATE('Year summary'!$B$3,1,10))>0,"H","")) | L6: =IF(L$4="","",IF(COUNTIF('Year summary'!$A$30:$A$59,DATE('Year summary'!$B$3,1,11))>0,"H","")) | M6: =IF(M$4="","",IF(COUNTIF('Year summary'!$A$30:$A$59,DATE('Year summary'!$B$3,1,12))>0,"H","")) | N6: =IF(N$4="","",IF(COUNTIF('Year summary'!$A$30:$A$59,DATE('Year summary'!$B$3,1,13))>0,"H","")) | O6: =IF(O$4="","",IF(COUNTIF('Year summary'!$A$30:$A$59,DATE('Year summary'!$B$3,1,14))>0,"H","")) | P6: =IF(P$4="","",IF(COUNTIF('Year summary'!$A$30:$A$59,DATE('Year summary'!$B$3,1,15))>0,"H","")) | Q6: =IF(Q$4="","",IF(COUNTIF('Year summary'!$A$30:$A$59,DATE('Year summary'!$B$3,1,16))>0,"H","")) | R6: =IF(R$4="","",IF(COUNTIF('Year summary'!$A$30:$A$59,DATE('Year summary'!$B$3,1,17))>0,"H","")) | S6: =IF(S$4="","",IF(COUNTIF('Year summary'!$A$30:$A$59,DATE('Year summary'!$B$3,1,18))>0,"H","")) | T6: =IF(T$4="","",IF(COUNTIF('Year summary'!$A$30:$A$59,DATE('Year summary'!$B$3,1,19))>0,"H","")) | U6: =IF(U$4="","",IF(COUNTIF('Year summary'!$A$30:$A$59,DATE('Year summary'!$B$3,1,20))>0,"H","")) | V6: =IF(V$4="","",IF(COUNTIF('Year summary'!$A$30:$A$59,DATE('Year summary'!$B$3,1,21))>0,"H","")) | W6: =IF(W$4="","",IF(COUNTIF('Year summary'!$A$30:$A$59,DATE('Year summary'!$B$3,1,22))>0,"H","")) | X6: =IF(X$4="","",IF(COUNTIF('Year summary'!$A$30:$A$59,DATE('Year summary'!$B$3,1,23))>0,"H","")) | Y6: =IF(Y$4="","",IF(COUNTIF('Year summary'!$A$30:$A$59,DATE('Year summary'!$B$3,1,24))>0,"H","")) | Z6: =IF(Z$4="","",IF(COUNTIF('Year summary'!$A$30:$A$59,DATE('Year summary'!$B$3,1,25))>0,"H","")) | AA6: =IF(AA$4="","",IF(COUNTIF('Year summary'!$A$30:$A$59,DATE('Year summary'!$B$3,1,26))>0,"H","")) | AB6: =IF(AB$4="","",IF(COUNTIF('Year summary'!$A$30:$A$59,DATE('Year summary'!$B$3,1,27))>0,"H","")) | AC6: =IF(AC$4="","",IF(COUNTIF('Year summary'!$A$30:$A$59,DATE('Year summary'!$B$3,1,28))>0,"H","")) | AD6: =IF(AD$4="","",IF(COUNTIF('Year summary'!$A$30:$A$59,DATE('Year summary'!$B$3,1,29))>0,"H","")) | AE6: =IF(AE$4="","",IF(COUNTIF('Year summary'!$A$30:$A$59,DATE('Year summary'!$B$3,1,30))>0,"H","")) | AF6: =IF(AF$4="","",IF(COUNTIF('Year summary'!$A$30:$A$59,DATE('Year summary'!$B$3,1,31))>0,"H",""))
A7: =IF('Year summary'!A7="","",'Year summary'!A7) | AG7: =COUNTIF(B7:AF7,"V") | AH7: =COUNTIF(B7:AF7,"S") | AI7: =COUNTIF(B7:AF7,"P") | AJ7: =COUNTIF(B7:AF7,"F") | AK7: =COUNTIF(B7:AF7,"U")
A8: =IF('Year summary'!A8="","",'Year summary'!A8) | AG8: =COUNTIF(B8:AF8,"V") | AH8: =COUNTIF(B8:AF8,"S") | AI8: =COUNTIF(B8:AF8,"P") | AJ8: =COUNTIF(B8:AF8,"F") | AK8: =COUNTIF(B8:AF8,"U")
A9: =IF('Year summary'!A9="","",'Year summary'!A9) | AG9: =COUNTIF(B9:AF9,"V") | AH9: =COUNTIF(B9:AF9,"S") | AI9: =COUNTIF(B9:AF9,"P") | AJ9: =COUNTIF(B9:AF9,"F") | AK9: =COUNTIF(B9:AF9,"U")
A10: =IF('Year summary'!A10="","",'Year summary'!A10) | AG10: =COUNTIF(B10:AF10,"V") | AH10: =COUNTIF(B10:AF10,"S") | AI10: =COUNTIF(B10:AF10,"P") | AJ10: =COUNTIF(B10:AF10,"F") | AK10: =COUNTIF(B10:AF10,"U")
A11: =IF('Year summary'!A11="","",'Year summary'!A11) | AG11: =COUNTIF(B11:AF11,"V") | AH11: =COUNTIF(B11:AF11,"S") | AI11: =COUNTIF(B11:AF11,"P") | AJ11: =COUNTIF(B11:AF11,"F") | AK11: =COUNTIF(B11:AF11,"U")
A12: =IF('Year summary'!A12="","",'Year summary'!A12) | AG12: =COUNTIF(B12:AF12,"V") | AH12: =COUNTIF(B12:AF12,"S") | AI12: =COUNTIF(B12:AF12,"P") | AJ12: =COUNTIF(B12:AF12,"F") | AK12: =COUNTIF(B12:AF12,"U")
A13: =IF('Year summary'!A13="","",'Year summary'!A13) | AG13: =COUNTIF(B13:AF13,"V") | AH13: =COUNTIF(B13:AF13,"S") | AI13: =COUNTIF(B13:AF13,"P") | AJ13: =COUNTIF(B13:AF13,"F") | AK13: =COUNTIF(B13:AF13,"U")
A14: =IF('Year summary'!A14="","",'Year summary'!A14) | AG14: =COUNTIF(B14:AF14,"V") | AH14: =COUNTIF(B14:AF14,"S") | AI14: =COUNTIF(B14:AF14,"P") | AJ14: =COUNTIF(B14:AF14,"F") | AK14: =COUNTIF(B14:AF14,"U")
A15: =IF('Year summary'!A15="","",'Year summary'!A15) | AG15: =COUNTIF(B15:AF15,"V") | AH15: =COUNTIF(B15:AF15,"S") | AI15: =COUNTIF(B15:AF15,"P") | AJ15: =COUNTIF(B15:AF15,"F") | AK15: =COUNTIF(B15:AF15,"U")
A16: =IF('Year summary'!A16="","",'Year summary'!A16) | AG16: =COUNTIF(B16:AF16,"V") | AH16: =COUNTIF(B16:AF16,"S") | AI16: =COUNTIF(B16:AF16,"P") | AJ16: =COUNTIF(B16:AF16,"F") | AK16: =COUNTIF(B16:AF16,"U")
A17: =IF('Year summary'!A17="","",'Year summary'!A17) | AG17: =COUNTIF(B17:AF17,"V") | AH17: =COUNTIF(B17:AF17,"S") | AI17: =COUNTIF(B17:AF17,"P") | AJ17: =COUNTIF(B17:AF17,"F") | AK17: =COUNTIF(B17:AF17,"U")
A18: =IF('Year summary'!A18="","",'Year summary'!A18) | AG18: =COUNTIF(B18:AF18,"V") | AH18: =COUNTIF(B18:AF18,"S") | AI18: =COUNTIF(B18:AF18,"P") | AJ18: =COUNTIF(B18:AF18,"F") | AK18: =COUNTIF(B18:AF18,"U")
... A26: =IF('Year summary'!A26="","",'Year summary'!A26) | AG26: =COUNTIF(B26:AF26,"V") | AH26: =COUNTIF(B26:AF26,"S") | AI26: =COUNTIF(B26:AF26,"P") | AJ26: =COUNTIF(B26:AF26,"F") | AK26: =COUNTIF(B26:AF26,"U")
A27: People off | B27: =IF(B$4="","",COUNTA(B7:B26)) | C27: =IF(C$4="","",COUNTA(C7:C26)) | D27: =IF(D$4="","",COUNTA(D7:D26)) | E27: =IF(E$4="","",COUNTA(E7:E26)) | F27: =IF(F$4="","",COUNTA(F7:F26)) | G27: =IF(G$4="","",COUNTA(G7:G26)) | H27: =IF(H$4="","",COUNTA(H7:H26)) | I27: =IF(I$4="","",COUNTA(I7:I26)) | ... AF27: =IF(AF$4="","",COUNTA(AF7:AF26))
A29: Codes: V = Vacation or PTO S = Sick P = Personal F = FMLA or other leave U = Unpaid. Weekends and company holidays are shaded. 'People off' turns red at 3 or more.
A31: Free template from workzenly.com

Sheet Feb
A1: Team PTO calendar: February
A2: ='Year summary'!B3
A4: Employee | B4: =IF(MONTH(DATE('Year summary'!$B$3,2,1))<>2,"",1) | C4: =IF(MONTH(DATE('Year summary'!$B$3,2,2))<>2,"",2) | D4: =IF(MONTH(DATE('Year summary'!$B$3,2,3))<>2,"",3) | E4: =IF(MONTH(DATE('Year summary'!$B$3,2,4))<>2,"",4) | F4: =IF(MONTH(DATE('Year summary'!$B$3,2,5))<>2,"",5) | G4: =IF(MONTH(DATE('Year summary'!$B$3,2,6))<>2,"",6) | H4: =IF(MONTH(DATE('Year summary'!$B$3,2,7))<>2,"",7) | I4: =IF(MONTH(DATE('Year summary'!$B$3,2,8))<>2,"",8) | J4: =IF(MONTH(DATE('Year summary'!$B$3,2,9))<>2,"",9) | K4: =IF(MONTH(DATE('Year summary'!$B$3,2,10))<>2,"",10) | L4: =IF(MONTH(DATE('Year summary'!$B$3,2,11))<>2,"",11) | M4: =IF(MONTH(DATE('Year summary'!$B$3,2,12))<>2,"",12) | N4: =IF(MONTH(DATE('Year summary'!$B$3,2,13))<>2,"",13) | O4: =IF(MONTH(DATE('Year summary'!$B$3,2,14))<>2,"",14) | P4: =IF(MONTH(DATE('Year summary'!$B$3,2,15))<>2,"",15) | Q4: =IF(MONTH(DATE('Year summary'!$B$3,2,16))<>2,"",16) | R4: =IF(MONTH(DATE('Year summary'!$B$3,2,17))<>2,"",17) | S4: =IF(MONTH(DATE('Year summary'!$B$3,2,18))<>2,"",18) | T4: =IF(MONTH(DATE('Year summary'!$B$3,2,19))<>2,"",19) | U4: =IF(MONTH(DATE('Year summary'!$B$3,2,20))<>2,"",20) | V4: =IF(MONTH(DATE('Year summary'!$B$3,2,21))<>2,"",21) | W4: =IF(MONTH(DATE('Year summary'!$B$3,2,22))<>2,"",22) | X4: =IF(MONTH(DATE('Year summary'!$B$3,2,23))<>2,"",23) | Y4: =IF(MONTH(DATE('Year summary'!$B$3,2,24))<>2,"",24) | Z4: =IF(MONTH(DATE('Year summary'!$B$3,2,25))<>2,"",25) | AA4: =IF(MONTH(DATE('Year summary'!$B$3,2,26))<>2,"",26) | AB4: =IF(MONTH(DATE('Year summary'!$B$3,2,27))<>2,"",27) | AC4: =IF(MONTH(DATE('Year summary'!$B$3,2,28))<>2,"",28) | AD4: =IF(MONTH(DATE('Year summary'!$B$3,2,29))<>2,"",29) | AE4: =IF(MONTH(DATE('Year summary'!$B$3,2,30))<>2,"",30) | AF4: =IF(MONTH(DATE('Year summary'!$B$3,2,31))<>2,"",31) | AG4: V | AH4: S | AI4: P | AJ4: F | AK4: U
B5: =IF(MONTH(DATE('Year summary'!$B$3,2,1))<>2,"",LEFT(TEXT(DATE('Year summary'!$B$3,2,1),"ddd"),2)) | C5: =IF(MONTH(DATE('Year summary'!$B$3,2,2))<>2,"",LEFT(TEXT(DATE('Year summary'!$B$3,2,2),"ddd"),2)) | D5: =IF(MONTH(DATE('Year summary'!$B$3,2,3))<>2,"",LEFT(TEXT(DATE('Year summary'!$B$3,2,3),"ddd"),2)) | E5: =IF(MONTH(DATE('Year summary'!$B$3,2,4))<>2,"",LEFT(TEXT(DATE('Year summary'!$B$3,2,4),"ddd"),2)) | F5: =IF(MONTH(DATE('Year summary'!$B$3,2,5))<>2,"",LEFT(TEXT(DATE('Year summary'!$B$3,2,5),"ddd"),2)) | G5: =IF(MONTH(DATE('Year summary'!$B$3,2,6))<>2,"",LEFT(TEXT(DATE('Year summary'!$B$3,2,6),"ddd"),2)) | H5: =IF(MONTH(DATE('Year summary'!$B$3,2,7))<>2,"",LEFT(TEXT(DATE('Year summary'!$B$3,2,7),"ddd"),2)) | I5: =IF(MONTH(DATE('Year summary'!$B$3,2,8))<>2,"",LEFT(TEXT(DATE('Year summary'!$B$3,2,8),"ddd"),2)) | J5: =IF(MONTH(DATE('Year summary'!$B$3,2,9))<>2,"",LEFT(TEXT(DATE('Year summary'!$B$3,2,9),"ddd"),2)) | K5: =IF(MONTH(DATE('Year summary'!$B$3,2,10))<>2,"",LEFT(TEXT(DATE('Year summary'!$B$3,2,10),"ddd"),2)) | L5: =IF(MONTH(DATE('Year summary'!$B$3,2,11))<>2,"",LEFT(TEXT(DATE('Year summary'!$B$3,2,11),"ddd"),2)) | M5: =IF(MONTH(DATE('Year summary'!$B$3,2,12))<>2,"",LEFT(TEXT(DATE('Year summary'!$B$3,2,12),"ddd"),2)) | N5: =IF(MONTH(DATE('Year summary'!$B$3,2,13))<>2,"",LEFT(TEXT(DATE('Year summary'!$B$3,2,13),"ddd"),2)) | O5: =IF(MONTH(DATE('Year summary'!$B$3,2,14))<>2,"",LEFT(TEXT(DATE('Year summary'!$B$3,2,14),"ddd"),2)) | P5: =IF(MONTH(DATE('Year summary'!$B$3,2,15))<>2,"",LEFT(TEXT(DATE('Year summary'!$B$3,2,15),"ddd"),2)) | Q5: =IF(MONTH(DATE('Year summary'!$B$3,2,16))<>2,"",LEFT(TEXT(DATE('Year summary'!$B$3,2,16),"ddd"),2)) | R5: =IF(MONTH(DATE('Year summary'!$B$3,2,17))<>2,"",LEFT(TEXT(DATE('Year summary'!$B$3,2,17),"ddd"),2)) | S5: =IF(MONTH(DATE('Year summary'!$B$3,2,18))<>2,"",LEFT(TEXT(DATE('Year summary'!$B$3,2,18),"ddd"),2)) | T5: =IF(MONTH(DATE('Year summary'!$B$3,2,19))<>2,"",LEFT(TEXT(DATE('Year summary'!$B$3,2,19),"ddd"),2)) | U5: =IF(MONTH(DATE('Year summary'!$B$3,2,20))<>2,"",LEFT(TEXT(DATE('Year summary'!$B$3,2,20),"ddd"),2)) | V5: =IF(MONTH(DATE('Year summary'!$B$3,2,21))<>2,"",LEFT(TEXT(DATE('Year summary'!$B$3,2,21),"ddd"),2)) | W5: =IF(MONTH(DATE('Year summary'!$B$3,2,22))<>2,"",LEFT(TEXT(DATE('Year summary'!$B$3,2,22),"ddd"),2)) | X5: =IF(MONTH(DATE('Year summary'!$B$3,2,23))<>2,"",LEFT(TEXT(DATE('Year summary'!$B$3,2,23),"ddd"),2)) | Y5: =IF(MONTH(DATE('Year summary'!$B$3,2,24))<>2,"",LEFT(TEXT(DATE('Year summary'!$B$3,2,24),"ddd"),2)) | Z5: =IF(MONTH(DATE('Year summary'!$B$3,2,25))<>2,"",LEFT(TEXT(DATE('Year summary'!$B$3,2,25),"ddd"),2)) | AA5: =IF(MONTH(DATE('Year summary'!$B$3,2,26))<>2,"",LEFT(TEXT(DATE('Year summary'!$B$3,2,26),"ddd"),2)) | AB5: =IF(MONTH(DATE('Year summary'!$B$3,2,27))<>2,"",LEFT(TEXT(DATE('Year summary'!$B$3,2,27),"ddd"),2)) | AC5: =IF(MONTH(DATE('Year summary'!$B$3,2,28))<>2,"",LEFT(TEXT(DATE('Year summary'!$B$3,2,28),"ddd"),2)) | AD5: =IF(MONTH(DATE('Year summary'!$B$3,2,29))<>2,"",LEFT(TEXT(DATE('Year summary'!$B$3,2,29),"ddd"),2)) | AE5: =IF(MONTH(DATE('Year summary'!$B$3,2,30))<>2,"",LEFT(TEXT(DATE('Year summary'!$B$3,2,30),"ddd"),2)) | AF5: =IF(MONTH(DATE('Year summary'!$B$3,2,31))<>2,"",LEFT(TEXT(DATE('Year summary'!$B$3,2,31),"ddd"),2))
A6: Holiday | B6: =IF(B$4="","",IF(COUNTIF('Year summary'!$A$30:$A$59,DATE('Year summary'!$B$3,2,1))>0,"H","")) | C6: =IF(C$4="","",IF(COUNTIF('Year summary'!$A$30:$A$59,DATE('Year summary'!$B$3,2,2))>0,"H","")) | D6: =IF(D$4="","",IF(COUNTIF('Year summary'!$A$30:$A$59,DATE('Year summary'!$B$3,2,3))>0,"H","")) | E6: =IF(E$4="","",IF(COUNTIF('Year summary'!$A$30:$A$59,DATE('Year summary'!$B$3,2,4))>0,"H","")) | F6: =IF(F$4="","",IF(COUNTIF('Year summary'!$A$30:$A$59,DATE('Year summary'!$B$3,2,5))>0,"H","")) | G6: =IF(G$4="","",IF(COUNTIF('Year summary'!$A$30:$A$59,DATE('Year summary'!$B$3,2,6))>0,"H","")) | H6: =IF(H$4="","",IF(COUNTIF('Year summary'!$A$30:$A$59,DATE('Year summary'!$B$3,2,7))>0,"H","")) | I6: =IF(I$4="","",IF(COUNTIF('Year summary'!$A$30:$A$59,DATE('Year summary'!$B$3,2,8))>0,"H","")) | J6: =IF(J$4="","",IF(COUNTIF('Year summary'!$A$30:$A$59,DATE('Year summary'!$B$3,2,9))>0,"H","")) | K6: =IF(K$4="","",IF(COUNTIF('Year summary'!$A$30:$A$59,DATE('Year summary'!$B$3,2,10))>0,"H","")) | L6: =IF(L$4="","",IF(COUNTIF('Year summary'!$A$30:$A$59,DATE('Year summary'!$B$3,2,11))>0,"H","")) | M6: =IF(M$4="","",IF(COUNTIF('Year summary'!$A$30:$A$59,DATE('Year summary'!$B$3,2,12))>0,"H","")) | N6: =IF(N$4="","",IF(COUNTIF('Year summary'!$A$30:$A$59,DATE('Year summary'!$B$3,2,13))>0,"H","")) | O6: =IF(O$4="","",IF(COUNTIF('Year summary'!$A$30:$A$59,DATE('Year summary'!$B$3,2,14))>0,"H","")) | P6: =IF(P$4="","",IF(COUNTIF('Year summary'!$A$30:$A$59,DATE('Year summary'!$B$3,2,15))>0,"H","")) | Q6: =IF(Q$4="","",IF(COUNTIF('Year summary'!$A$30:$A$59,DATE('Year summary'!$B$3,2,16))>0,"H","")) | R6: =IF(R$4="","",IF(COUNTIF('Year summary'!$A$30:$A$59,DATE('Year summary'!$B$3,2,17))>0,"H","")) | S6: =IF(S$4="","",IF(COUNTIF('Year summary'!$A$30:$A$59,DATE('Year summary'!$B$3,2,18))>0,"H","")) | T6: =IF(T$4="","",IF(COUNTIF('Year summary'!$A$30:$A$59,DATE('Year summary'!$B$3,2,19))>0,"H","")) | U6: =IF(U$4="","",IF(COUNTIF('Year summary'!$A$30:$A$59,DATE('Year summary'!$B$3,2,20))>0,"H","")) | V6: =IF(V$4="","",IF(COUNTIF('Year summary'!$A$30:$A$59,DATE('Year summary'!$B$3,2,21))>0,"H","")) | W6: =IF(W$4="","",IF(COUNTIF('Year summary'!$A$30:$A$59,DATE('Year summary'!$B$3,2,22))>0,"H","")) | X6: =IF(X$4="","",IF(COUNTIF('Year summary'!$A$30:$A$59,DATE('Year summary'!$B$3,2,23))>0,"H","")) | Y6: =IF(Y$4="","",IF(COUNTIF('Year summary'!$A$30:$A$59,DATE('Year summary'!$B$3,2,24))>0,"H","")) | Z6: =IF(Z$4="","",IF(COUNTIF('Year summary'!$A$30:$A$59,DATE('Year summary'!$B$3,2,25))>0,"H","")) | AA6: =IF(AA$4="","",IF(COUNTIF('Year summary'!$A$30:$A$59,DATE('Year summary'!$B$3,2,26))>0,"H","")) | AB6: =IF(AB$4="","",IF(COUNTIF('Year summary'!$A$30:$A$59,DATE('Year summary'!$B$3,2,27))>0,"H","")) | AC6: =IF(AC$4="","",IF(COUNTIF('Year summary'!$A$30:$A$59,DATE('Year summary'!$B$3,2,28))>0,"H","")) | AD6: =IF(AD$4="","",IF(COUNTIF('Year summary'!$A$30:$A$59,DATE('Year summary'!$B$3,2,29))>0,"H","")) | AE6: =IF(AE$4="","",IF(COUNTIF('Year summary'!$A$30:$A$59,DATE('Year summary'!$B$3,2,30))>0,"H","")) | AF6: =IF(AF$4="","",IF(COUNTIF('Year summary'!$A$30:$A$59,DATE('Year summary'!$B$3,2,31))>0,"H",""))
A7: =IF('Year summary'!A7="","",'Year summary'!A7) | AG7: =COUNTIF(B7:AF7,"V") | AH7: =COUNTIF(B7:AF7,"S") | AI7: =COUNTIF(B7:AF7,"P") | AJ7: =COUNTIF(B7:AF7,"F") | AK7: =COUNTIF(B7:AF7,"U")
A8: =IF('Year summary'!A8="","",'Year summary'!A8) | AG8: =COUNTIF(B8:AF8,"V") | AH8: =COUNTIF(B8:AF8,"S") | AI8: =COUNTIF(B8:AF8,"P") | AJ8: =COUNTIF(B8:AF8,"F") | AK8: =COUNTIF(B8:AF8,"U")
A9: =IF('Year summary'!A9="","",'Year summary'!A9) | AG9: =COUNTIF(B9:AF9,"V") | AH9: =COUNTIF(B9:AF9,"S") | AI9: =COUNTIF(B9:AF9,"P") | AJ9: =COUNTIF(B9:AF9,"F") | AK9: =COUNTIF(B9:AF9,"U")
A10: =IF('Year summary'!A10="","",'Year summary'!A10) | AG10: =COUNTIF(B10:AF10,"V") | AH10: =COUNTIF(B10:AF10,"S") | AI10: =COUNTIF(B10:AF10,"P") | AJ10: =COUNTIF(B10:AF10,"F") | AK10: =COUNTIF(B10:AF10,"U")
A11: =IF('Year summary'!A11="","",'Year summary'!A11) | AG11: =COUNTIF(B11:AF11,"V") | AH11: =COUNTIF(B11:AF11,"S") | AI11: =COUNTIF(B11:AF11,"P") | AJ11: =COUNTIF(B11:AF11,"F") | AK11: =COUNTIF(B11:AF11,"U")
A12: =IF('Year summary'!A12="","",'Year summary'!A12) | AG12: =COUNTIF(B12:AF12,"V") | AH12: =COUNTIF(B12:AF12,"S") | AI12: =COUNTIF(B12:AF12,"P") | AJ12: =COUNTIF(B12:AF12,"F") | AK12: =COUNTIF(B12:AF12,"U")
A13: =IF('Year summary'!A13="","",'Year summary'!A13) | AG13: =COUNTIF(B13:AF13,"V") | AH13: =COUNTIF(B13:AF13,"S") | AI13: =COUNTIF(B13:AF13,"P") | AJ13: =COUNTIF(B13:AF13,"F") | AK13: =COUNTIF(B13:AF13,"U")
A14: =IF('Year summary'!A14="","",'Year summary'!A14) | AG14: =COUNTIF(B14:AF14,"V") | AH14: =COUNTIF(B14:AF14,"S") | AI14: =COUNTIF(B14:AF14,"P") | AJ14: =COUNTIF(B14:AF14,"F") | AK14: =COUNTIF(B14:AF14,"U")
A15: =IF('Year summary'!A15="","",'Year summary'!A15) | AG15: =COUNTIF(B15:AF15,"V") | AH15: =COUNTIF(B15:AF15,"S") | AI15: =COUNTIF(B15:AF15,"P") | AJ15: =COUNTIF(B15:AF15,"F") | AK15: =COUNTIF(B15:AF15,"U")
A16: =IF('Year summary'!A16="","",'Year summary'!A16) | AG16: =COUNTIF(B16:AF16,"V") | AH16: =COUNTIF(B16:AF16,"S") | AI16: =COUNTIF(B16:AF16,"P") | AJ16: =COUNTIF(B16:AF16,"F") | AK16: =COUNTIF(B16:AF16,"U")
A17: =IF('Year summary'!A17="","",'Year summary'!A17) | AG17: =COUNTIF(B17:AF17,"V") | AH17: =COUNTIF(B17:AF17,"S") | AI17: =COUNTIF(B17:AF17,"P") | AJ17: =COUNTIF(B17:AF17,"F") | AK17: =COUNTIF(B17:AF17,"U")
A18: =IF('Year summary'!A18="","",'Year summary'!A18) | AG18: =COUNTIF(B18:AF18,"V") | AH18: =COUNTIF(B18:AF18,"S") | AI18: =COUNTIF(B18:AF18,"P") | AJ18: =COUNTIF(B18:AF18,"F") | AK18: =COUNTIF(B18:AF18,"U")
... A26: =IF('Year summary'!A26="","",'Year summary'!A26) | AG26: =COUNTIF(B26:AF26,"V") | AH26: =COUNTIF(B26:AF26,"S") | AI26: =COUNTIF(B26:AF26,"P") | AJ26: =COUNTIF(B26:AF26,"F") | AK26: =COUNTIF(B26:AF26,"U")
A27: People off | B27: =IF(B$4="","",COUNTA(B7:B26)) | C27: =IF(C$4="","",COUNTA(C7:C26)) | D27: =IF(D$4="","",COUNTA(D7:D26)) | E27: =IF(E$4="","",COUNTA(E7:E26)) | F27: =IF(F$4="","",COUNTA(F7:F26)) | G27: =IF(G$4="","",COUNTA(G7:G26)) | H27: =IF(H$4="","",COUNTA(H7:H26)) | I27: =IF(I$4="","",COUNTA(I7:I26)) | ... AF27: =IF(AF$4="","",COUNTA(AF7:AF26))
A29: Codes: V = Vacation or PTO S = Sick P = Personal F = FMLA or other leave U = Unpaid. Weekends and company holidays are shaded. 'People off' turns red at 3 or more.
A31: Free template from workzenly.com

Sheet Mar
A1: Team PTO calendar: March
A2: ='Year summary'!B3
A4: Employee | B4: =IF(MONTH(DATE('Year summary'!$B$3,3,1))<>3,"",1) | C4: =IF(MONTH(DATE('Year summary'!$B$3,3,2))<>3,"",2) | D4: =IF(MONTH(DATE('Year summary'!$B$3,3,3))<>3,"",3) | E4: =IF(MONTH(DATE('Year summary'!$B$3,3,4))<>3,"",4) | F4: =IF(MONTH(DATE('Year summary'!$B$3,3,5))<>3,"",5) | G4: =IF(MONTH(DATE('Year summary'!$B$3,3,6))<>3,"",6) | H4: =IF(MONTH(DATE('Year summary'!$B$3,3,7))<>3,"",7) | I4: =IF(MONTH(DATE('Year summary'!$B$3,3,8))<>3,"",8) | J4: =IF(MONTH(DATE('Year summary'!$B$3,3,9))<>3,"",9) | K4: =IF(MONTH(DATE('Year summary'!$B$3,3,10))<>3,"",10) | L4: =IF(MONTH(DATE('Year summary'!$B$3,3,11))<>3,"",11) | M4: =IF(MONTH(DATE('Year summary'!$B$3,3,12))<>3,"",12) | N4: =IF(MONTH(DATE('Year summary'!$B$3,3,13))<>3,"",13) | O4: =IF(MONTH(DATE('Year summary'!$B$3,3,14))<>3,"",14) | P4: =IF(MONTH(DATE('Year summary'!$B$3,3,15))<>3,"",15) | Q4: =IF(MONTH(DATE('Year summary'!$B$3,3,16))<>3,"",16) | R4: =IF(MONTH(DATE('Year summary'!$B$3,3,17))<>3,"",17) | S4: =IF(MONTH(DATE('Year summary'!$B$3,3,18))<>3,"",18) | T4: =IF(MONTH(DATE('Year summary'!$B$3,3,19))<>3,"",19) | U4: =IF(MONTH(DATE('Year summary'!$B$3,3,20))<>3,"",20) | V4: =IF(MONTH(DATE('Year summary'!$B$3,3,21))<>3,"",21) | W4: =IF(MONTH(DATE('Year summary'!$B$3,3,22))<>3,"",22) | X4: =IF(MONTH(DATE('Year summary'!$B$3,3,23))<>3,"",23) | Y4: =IF(MONTH(DATE('Year summary'!$B$3,3,24))<>3,"",24) | Z4: =IF(MONTH(DATE('Year summary'!$B$3,3,25))<>3,"",25) | AA4: =IF(MONTH(DATE('Year summary'!$B$3,3,26))<>3,"",26) | AB4: =IF(MONTH(DATE('Year summary'!$B$3,3,27))<>3,"",27) | AC4: =IF(MONTH(DATE('Year summary'!$B$3,3,28))<>3,"",28) | AD4: =IF(MONTH(DATE('Year summary'!$B$3,3,29))<>3,"",29) | AE4: =IF(MONTH(DATE('Year summary'!$B$3,3,30))<>3,"",30) | AF4: =IF(MONTH(DATE('Year summary'!$B$3,3,31))<>3,"",31) | AG4: V | AH4: S | AI4: P | AJ4: F | AK4: U
B5: =IF(MONTH(DATE('Year summary'!$B$3,3,1))<>3,"",LEFT(TEXT(DATE('Year summary'!$B$3,3,1),"ddd"),2)) | C5: =IF(MONTH(DATE('Year summary'!$B$3,3,2))<>3,"",LEFT(TEXT(DATE('Year summary'!$B$3,3,2),"ddd"),2)) | D5: =IF(MONTH(DATE('Year summary'!$B$3,3,3))<>3,"",LEFT(TEXT(DATE('Year summary'!$B$3,3,3),"ddd"),2)) | E5: =IF(MONTH(DATE('Year summary'!$B$3,3,4))<>3,"",LEFT(TEXT(DATE('Year summary'!$B$3,3,4),"ddd"),2)) | F5: =IF(MONTH(DATE('Year summary'!$B$3,3,5))<>3,"",LEFT(TEXT(DATE('Year summary'!$B$3,3,5),"ddd"),2)) | G5: =IF(MONTH(DATE('Year summary'!$B$3,3,6))<>3,"",LEFT(TEXT(DATE('Year summary'!$B$3,3,6),"ddd"),2)) | H5: =IF(MONTH(DATE('Year summary'!$B$3,3,7))<>3,"",LEFT(TEXT(DATE('Year summary'!$B$3,3,7),"ddd"),2)) | I5: =IF(MONTH(DATE('Year summary'!$B$3,3,8))<>3,"",LEFT(TEXT(DATE('Year summary'!$B$3,3,8),"ddd"),2)) | J5: =IF(MONTH(DATE('Year summary'!$B$3,3,9))<>3,"",LEFT(TEXT(DATE('Year summary'!$B$3,3,9),"ddd"),2)) | K5: =IF(MONTH(DATE('Year summary'!$B$3,3,10))<>3,"",LEFT(TEXT(DATE('Year summary'!$B$3,3,10),"ddd"),2)) | L5: =IF(MONTH(DATE('Year summary'!$B$3,3,11))<>3,"",LEFT(TEXT(DATE('Year summary'!$B$3,3,11),"ddd"),2)) | M5: =IF(MONTH(DATE('Year summary'!$B$3,3,12))<>3,"",LEFT(TEXT(DATE('Year summary'!$B$3,3,12),"ddd"),2)) | N5: =IF(MONTH(DATE('Year summary'!$B$3,3,13))<>3,"",LEFT(TEXT(DATE('Year summary'!$B$3,3,13),"ddd"),2)) | O5: =IF(MONTH(DATE('Year summary'!$B$3,3,14))<>3,"",LEFT(TEXT(DATE('Year summary'!$B$3,3,14),"ddd"),2)) | P5: =IF(MONTH(DATE('Year summary'!$B$3,3,15))<>3,"",LEFT(TEXT(DATE('Year summary'!$B$3,3,15),"ddd"),2)) | Q5: =IF(MONTH(DATE('Year summary'!$B$3,3,16))<>3,"",LEFT(TEXT(DATE('Year summary'!$B$3,3,16),"ddd"),2)) | R5: =IF(MONTH(DATE('Year summary'!$B$3,3,17))<>3,"",LEFT(TEXT(DATE('Year summary'!$B$3,3,17),"ddd"),2)) | S5: =IF(MONTH(DATE('Year summary'!$B$3,3,18))<>3,"",LEFT(TEXT(DATE('Year summary'!$B$3,3,18),"ddd"),2)) | T5: =IF(MONTH(DATE('Year summary'!$B$3,3,19))<>3,"",LEFT(TEXT(DATE('Year summary'!$B$3,3,19),"ddd"),2)) | U5: =IF(MONTH(DATE('Year summary'!$B$3,3,20))<>3,"",LEFT(TEXT(DATE('Year summary'!$B$3,3,20),"ddd"),2)) | V5: =IF(MONTH(DATE('Year summary'!$B$3,3,21))<>3,"",LEFT(TEXT(DATE('Year summary'!$B$3,3,21),"ddd"),2)) | W5: =IF(MONTH(DATE('Year summary'!$B$3,3,22))<>3,"",LEFT(TEXT(DATE('Year summary'!$B$3,3,22),"ddd"),2)) | X5: =IF(MONTH(DATE('Year summary'!$B$3,3,23))<>3,"",LEFT(TEXT(DATE('Year summary'!$B$3,3,23),"ddd"),2)) | Y5: =IF(MONTH(DATE('Year summary'!$B$3,3,24))<>3,"",LEFT(TEXT(DATE('Year summary'!$B$3,3,24),"ddd"),2)) | Z5: =IF(MONTH(DATE('Year summary'!$B$3,3,25))<>3,"",LEFT(TEXT(DATE('Year summary'!$B$3,3,25),"ddd"),2)) | AA5: =IF(MONTH(DATE('Year summary'!$B$3,3,26))<>3,"",LEFT(TEXT(DATE('Year summary'!$B$3,3,26),"ddd"),2)) | AB5: =IF(MONTH(DATE('Year summary'!$B$3,3,27))<>3,"",LEFT(TEXT(DATE('Year summary'!$B$3,3,27),"ddd"),2)) | AC5: =IF(MONTH(DATE('Year summary'!$B$3,3,28))<>3,"",LEFT(TEXT(DATE('Year summary'!$B$3,3,28),"ddd"),2)) | AD5: =IF(MONTH(DATE('Year summary'!$B$3,3,29))<>3,"",LEFT(TEXT(DATE('Year summary'!$B$3,3,29),"ddd"),2)) | AE5: =IF(MONTH(DATE('Year summary'!$B$3,3,30))<>3,"",LEFT(TEXT(DATE('Year summary'!$B$3,3,30),"ddd"),2)) | AF5: =IF(MONTH(DATE('Year summary'!$B$3,3,31))<>3,"",LEFT(TEXT(DATE('Year summary'!$B$3,3,31),"ddd"),2))
A6: Holiday | B6: =IF(B$4="","",IF(COUNTIF('Year summary'!$A$30:$A$59,DATE('Year summary'!$B$3,3,1))>0,"H","")) | C6: =IF(C$4="","",IF(COUNTIF('Year summary'!$A$30:$A$59,DATE('Year summary'!$B$3,3,2))>0,"H","")) | D6: =IF(D$4="","",IF(COUNTIF('Year summary'!$A$30:$A$59,DATE('Year summary'!$B$3,3,3))>0,"H","")) | E6: =IF(E$4="","",IF(COUNTIF('Year summary'!$A$30:$A$59,DATE('Year summary'!$B$3,3,4))>0,"H","")) | F6: =IF(F$4="","",IF(COUNTIF('Year summary'!$A$30:$A$59,DATE('Year summary'!$B$3,3,5))>0,"H","")) | G6: =IF(G$4="","",IF(COUNTIF('Year summary'!$A$30:$A$59,DATE('Year summary'!$B$3,3,6))>0,"H","")) | H6: =IF(H$4="","",IF(COUNTIF('Year summary'!$A$30:$A$59,DATE('Year summary'!$B$3,3,7))>0,"H","")) | I6: =IF(I$4="","",IF(COUNTIF('Year summary'!$A$30:$A$59,DATE('Year summary'!$B$3,3,8))>0,"H","")) | J6: =IF(J$4="","",IF(COUNTIF('Year summary'!$A$30:$A$59,DATE('Year summary'!$B$3,3,9))>0,"H","")) | K6: =IF(K$4="","",IF(COUNTIF('Year summary'!$A$30:$A$59,DATE('Year summary'!$B$3,3,10))>0,"H","")) | L6: =IF(L$4="","",IF(COUNTIF('Year summary'!$A$30:$A$59,DATE('Year summary'!$B$3,3,11))>0,"H","")) | M6: =IF(M$4="","",IF(COUNTIF('Year summary'!$A$30:$A$59,DATE('Year summary'!$B$3,3,12))>0,"H","")) | N6: =IF(N$4="","",IF(COUNTIF('Year summary'!$A$30:$A$59,DATE('Year summary'!$B$3,3,13))>0,"H","")) | O6: =IF(O$4="","",IF(COUNTIF('Year summary'!$A$30:$A$59,DATE('Year summary'!$B$3,3,14))>0,"H","")) | P6: =IF(P$4="","",IF(COUNTIF('Year summary'!$A$30:$A$59,DATE('Year summary'!$B$3,3,15))>0,"H","")) | Q6: =IF(Q$4="","",IF(COUNTIF('Year summary'!$A$30:$A$59,DATE('Year summary'!$B$3,3,16))>0,"H","")) | R6: =IF(R$4="","",IF(COUNTIF('Year summary'!$A$30:$A$59,DATE('Year summary'!$B$3,3,17))>0,"H","")) | S6: =IF(S$4="","",IF(COUNTIF('Year summary'!$A$30:$A$59,DATE('Year summary'!$B$3,3,18))>0,"H","")) | T6: =IF(T$4="","",IF(COUNTIF('Year summary'!$A$30:$A$59,DATE('Year summary'!$B$3,3,19))>0,"H","")) | U6: =IF(U$4="","",IF(COUNTIF('Year summary'!$A$30:$A$59,DATE('Year summary'!$B$3,3,20))>0,"H","")) | V6: =IF(V$4="","",IF(COUNTIF('Year summary'!$A$30:$A$59,DATE('Year summary'!$B$3,3,21))>0,"H","")) | W6: =IF(W$4="","",IF(COUNTIF('Year summary'!$A$30:$A$59,DATE('Year summary'!$B$3,3,22))>0,"H","")) | X6: =IF(X$4="","",IF(COUNTIF('Year summary'!$A$30:$A$59,DATE('Year summary'!$B$3,3,23))>0,"H","")) | Y6: =IF(Y$4="","",IF(COUNTIF('Year summary'!$A$30:$A$59,DATE('Year summary'!$B$3,3,24))>0,"H","")) | Z6: =IF(Z$4="","",IF(COUNTIF('Year summary'!$A$30:$A$59,DATE('Year summary'!$B$3,3,25))>0,"H","")) | AA6: =IF(AA$4="","",IF(COUNTIF('Year summary'!$A$30:$A$59,DATE('Year summary'!$B$3,3,26))>0,"H","")) | AB6: =IF(AB$4="","",IF(COUNTIF('Year summary'!$A$30:$A$59,DATE('Year summary'!$B$3,3,27))>0,"H","")) | AC6: =IF(AC$4="","",IF(COUNTIF('Year summary'!$A$30:$A$59,DATE('Year summary'!$B$3,3,28))>0,"H","")) | AD6: =IF(AD$4="","",IF(COUNTIF('Year summary'!$A$30:$A$59,DATE('Year summary'!$B$3,3,29))>0,"H","")) | AE6: =IF(AE$4="","",IF(COUNTIF('Year summary'!$A$30:$A$59,DATE('Year summary'!$B$3,3,30))>0,"H","")) | AF6: =IF(AF$4="","",IF(COUNTIF('Year summary'!$A$30:$A$59,DATE('Year summary'!$B$3,3,31))>0,"H",""))
A7: =IF('Year summary'!A7="","",'Year summary'!A7) | AG7: =COUNTIF(B7:AF7,"V") | AH7: =COUNTIF(B7:AF7,"S") | AI7: =COUNTIF(B7:AF7,"P") | AJ7: =COUNTIF(B7:AF7,"F") | AK7: =COUNTIF(B7:AF7,"U")
A8: =IF('Year summary'!A8="","",'Year summary'!A8) | AG8: =COUNTIF(B8:AF8,"V") | AH8: =COUNTIF(B8:AF8,"S") | AI8: =COUNTIF(B8:AF8,"P") | AJ8: =COUNTIF(B8:AF8,"F") | AK8: =COUNTIF(B8:AF8,"U")
A9: =IF('Year summary'!A9="","",'Year summary'!A9) | AG9: =COUNTIF(B9:AF9,"V") | AH9: =COUNTIF(B9:AF9,"S") | AI9: =COUNTIF(B9:AF9,"P") | AJ9: =COUNTIF(B9:AF9,"F") | AK9: =COUNTIF(B9:AF9,"U")
A10: =IF('Year summary'!A10="","",'Year summary'!A10) | AG10: =COUNTIF(B10:AF10,"V") | AH10: =COUNTIF(B10:AF10,"S") | AI10: =COUNTIF(B10:AF10,"P") | AJ10: =COUNTIF(B10:AF10,"F") | AK10: =COUNTIF(B10:AF10,"U")
A11: =IF('Year summary'!A11="","",'Year summary'!A11) | AG11: =COUNTIF(B11:AF11,"V") | AH11: =COUNTIF(B11:AF11,"S") | AI11: =COUNTIF(B11:AF11,"P") | AJ11: =COUNTIF(B11:AF11,"F") | AK11: =COUNTIF(B11:AF11,"U")
A12: =IF('Year summary'!A12="","",'Year summary'!A12) | AG12: =COUNTIF(B12:AF12,"V") | AH12: =COUNTIF(B12:AF12,"S") | AI12: =COUNTIF(B12:AF12,"P") | AJ12: =COUNTIF(B12:AF12,"F") | AK12: =COUNTIF(B12:AF12,"U")
A13: =IF('Year summary'!A13="","",'Year summary'!A13) | AG13: =COUNTIF(B13:AF13,"V") | AH13: =COUNTIF(B13:AF13,"S") | AI13: =COUNTIF(B13:AF13,"P") | AJ13: =COUNTIF(B13:AF13,"F") | AK13: =COUNTIF(B13:AF13,"U")
A14: =IF('Year summary'!A14="","",'Year summary'!A14) | AG14: =COUNTIF(B14:AF14,"V") | AH14: =COUNTIF(B14:AF14,"S") | AI14: =COUNTIF(B14:AF14,"P") | AJ14: =COUNTIF(B14:AF14,"F") | AK14: =COUNTIF(B14:AF14,"U")
A15: =IF('Year summary'!A15="","",'Year summary'!A15) | AG15: =COUNTIF(B15:AF15,"V") | AH15: =COUNTIF(B15:AF15,"S") | AI15: =COUNTIF(B15:AF15,"P") | AJ15: =COUNTIF(B15:AF15,"F") | AK15: =COUNTIF(B15:AF15,"U")
A16: =IF('Year summary'!A16="","",'Year summary'!A16) | AG16: =COUNTIF(B16:AF16,"V") | AH16: =COUNTIF(B16:AF16,"S") | AI16: =COUNTIF(B16:AF16,"P") | AJ16: =COUNTIF(B16:AF16,"F") | AK16: =COUNTIF(B16:AF16,"U")
A17: =IF('Year summary'!A17="","",'Year summary'!A17) | AG17: =COUNTIF(B17:AF17,"V") | AH17: =COUNTIF(B17:AF17,"S") | AI17: =COUNTIF(B17:AF17,"P") | AJ17: =COUNTIF(B17:AF17,"F") | AK17: =COUNTIF(B17:AF17,"U")
A18: =IF('Year summary'!A18="","",'Year summary'!A18) | AG18: =COUNTIF(B18:AF18,"V") | AH18: =COUNTIF(B18:AF18,"S") | AI18: =COUNTIF(B18:AF18,"P") | AJ18: =COUNTIF(B18:AF18,"F") | AK18: =COUNTIF(B18:AF18,"U")
... A26: =IF('Year summary'!A26="","",'Year summary'!A26) | AG26: =COUNTIF(B26:AF26,"V") | AH26: =COUNTIF(B26:AF26,"S") | AI26: =COUNTIF(B26:AF26,"P") | AJ26: =COUNTIF(B26:AF26,"F") | AK26: =COUNTIF(B26:AF26,"U")
A27: People off | B27: =IF(B$4="","",COUNTA(B7:B26)) | C27: =IF(C$4="","",COUNTA(C7:C26)) | D27: =IF(D$4="","",COUNTA(D7:D26)) | E27: =IF(E$4="","",COUNTA(E7:E26)) | F27: =IF(F$4="","",COUNTA(F7:F26)) | G27: =IF(G$4="","",COUNTA(G7:G26)) | H27: =IF(H$4="","",COUNTA(H7:H26)) | I27: =IF(I$4="","",COUNTA(I7:I26)) | ... AF27: =IF(AF$4="","",COUNTA(AF7:AF26))
A29: Codes: V = Vacation or PTO S = Sick P = Personal F = FMLA or other leave U = Unpaid. Weekends and company holidays are shaded. 'People off' turns red at 3 or more.
A31: Free template from workzenly.com

Sheet Apr
A1: Team PTO calendar: April
A2: ='Year summary'!B3
A4: Employee | B4: =IF(MONTH(DATE('Year summary'!$B$3,4,1))<>4,"",1) | C4: =IF(MONTH(DATE('Year summary'!$B$3,4,2))<>4,"",2) | D4: =IF(MONTH(DATE('Year summary'!$B$3,4,3))<>4,"",3) | E4: =IF(MONTH(DATE('Year summary'!$B$3,4,4))<>4,"",4) | F4: =IF(MONTH(DATE('Year summary'!$B$3,4,5))<>4,"",5) | G4: =IF(MONTH(DATE('Year summary'!$B$3,4,6))<>4,"",6) | H4: =IF(MONTH(DATE('Year summary'!$B$3,4,7))<>4,"",7) | I4: =IF(MONTH(DATE('Year summary'!$B$3,4,8))<>4,"",8) | J4: =IF(MONTH(DATE('Year summary'!$B$3,4,9))<>4,"",9) | K4: =IF(MONTH(DATE('Year summary'!$B$3,4,10))<>4,"",10) | L4: =IF(MONTH(DATE('Year summary'!$B$3,4,11))<>4,"",11) | M4: =IF(MONTH(DATE('Year summary'!$B$3,4,12))<>4,"",12) | N4: =IF(MONTH(DATE('Year summary'!$B$3,4,13))<>4,"",13) | O4: =IF(MONTH(DATE('Year summary'!$B$3,4,14))<>4,"",14) | P4: =IF(MONTH(DATE('Year summary'!$B$3,4,15))<>4,"",15) | Q4: =IF(MONTH(DATE('Year summary'!$B$3,4,16))<>4,"",16) | R4: =IF(MONTH(DATE('Year summary'!$B$3,4,17))<>4,"",17) | S4: =IF(MONTH(DATE('Year summary'!$B$3,4,18))<>4,"",18) | T4: =IF(MONTH(DATE('Year summary'!$B$3,4,19))<>4,"",19) | U4: =IF(MONTH(DATE('Year summary'!$B$3,4,20))<>4,"",20) | V4: =IF(MONTH(DATE('Year summary'!$B$3,4,21))<>4,"",21) | W4: =IF(MONTH(DATE('Year summary'!$B$3,4,22))<>4,"",22) | X4: =IF(MONTH(DATE('Year summary'!$B$3,4,23))<>4,"",23) | Y4: =IF(MONTH(DATE('Year summary'!$B$3,4,24))<>4,"",24) | Z4: =IF(MONTH(DATE('Year summary'!$B$3,4,25))<>4,"",25) | AA4: =IF(MONTH(DATE('Year summary'!$B$3,4,26))<>4,"",26) | AB4: =IF(MONTH(DATE('Year summary'!$B$3,4,27))<>4,"",27) | AC4: =IF(MONTH(DATE('Year summary'!$B$3,4,28))<>4,"",28) | AD4: =IF(MONTH(DATE('Year summary'!$B$3,4,29))<>4,"",29) | AE4: =IF(MONTH(DATE('Year summary'!$B$3,4,30))<>4,"",30) | AF4: =IF(MONTH(DATE('Year summary'!$B$3,4,31))<>4,"",31) | AG4: V | AH4: S | AI4: P | AJ4: F | AK4: U
B5: =IF(MONTH(DATE('Year summary'!$B$3,4,1))<>4,"",LEFT(TEXT(DATE('Year summary'!$B$3,4,1),"ddd"),2)) | C5: =IF(MONTH(DATE('Year summary'!$B$3,4,2))<>4,"",LEFT(TEXT(DATE('Year summary'!$B$3,4,2),"ddd"),2)) | D5: =IF(MONTH(DATE('Year summary'!$B$3,4,3))<>4,"",LEFT(TEXT(DATE('Year summary'!$B$3,4,3),"ddd"),2)) | E5: =IF(MONTH(DATE('Year summary'!$B$3,4,4))<>4,"",LEFT(TEXT(DATE('Year summary'!$B$3,4,4),"ddd"),2)) | F5: =IF(MONTH(DATE('Year summary'!$B$3,4,5))<>4,"",LEFT(TEXT(DATE('Year summary'!$B$3,4,5),"ddd"),2)) | G5: =IF(MONTH(DATE('Year summary'!$B$3,4,6))<>4,"",LEFT(TEXT(DATE('Year summary'!$B$3,4,6),"ddd"),2)) | H5: =IF(MONTH(DATE('Year summary'!$B$3,4,7))<>4,"",LEFT(TEXT(DATE('Year summary'!$B$3,4,7),"ddd"),2)) | I5: =IF(MONTH(DATE('Year summary'!$B$3,4,8))<>4,"",LEFT(TEXT(DATE('Year summary'!$B$3,4,8),"ddd"),2)) | J5: =IF(MONTH(DATE('Year summary'!$B$3,4,9))<>4,"",LEFT(TEXT(DATE('Year summary'!$B$3,4,9),"ddd"),2)) | K5: =IF(MONTH(DATE('Year summary'!$B$3,4,10))<>4,"",LEFT(TEXT(DATE('Year summary'!$B$3,4,10),"ddd"),2)) | L5: =IF(MONTH(DATE('Year summary'!$B$3,4,11))<>4,"",LEFT(TEXT(DATE('Year summary'!$B$3,4,11),"ddd"),2)) | M5: =IF(MONTH(DATE('Year summary'!$B$3,4,12))<>4,"",LEFT(TEXT(DATE('Year summary'!$B$3,4,12),"ddd"),2)) | N5: =IF(MONTH(DATE('Year summary'!$B$3,4,13))<>4,"",LEFT(TEXT(DATE('Year summary'!$B$3,4,13),"ddd"),2)) | O5: =IF(MONTH(DATE('Year summary'!$B$3,4,14))<>4,"",LEFT(TEXT(DATE('Year summary'!$B$3,4,14),"ddd"),2)) | P5: =IF(MONTH(DATE('Year summary'!$B$3,4,15))<>4,"",LEFT(TEXT(DATE('Year summary'!$B$3,4,15),"ddd"),2)) | Q5: =IF(MONTH(DATE('Year summary'!$B$3,4,16))<>4,"",LEFT(TEXT(DATE('Year summary'!$B$3,4,16),"ddd"),2)) | R5: =IF(MONTH(DATE('Year summary'!$B$3,4,17))<>4,"",LEFT(TEXT(DATE('Year summary'!$B$3,4,17),"ddd"),2)) | S5: =IF(MONTH(DATE('Year summary'!$B$3,4,18))<>4,"",LEFT(TEXT(DATE('Year summary'!$B$3,4,18),"ddd"),2)) | T5: =IF(MONTH(DATE('Year summary'!$B$3,4,19))<>4,"",LEFT(TEXT(DATE('Year summary'!$B$3,4,19),"ddd"),2)) | U5: =IF(MONTH(DATE('Year summary'!$B$3,4,20))<>4,"",LEFT(TEXT(DATE('Year summary'!$B$3,4,20),"ddd"),2)) | V5: =IF(MONTH(DATE('Year summary'!$B$3,4,21))<>4,"",LEFT(TEXT(DATE('Year summary'!$B$3,4,21),"ddd"),2)) | W5: =IF(MONTH(DATE('Year summary'!$B$3,4,22))<>4,"",LEFT(TEXT(DATE('Year summary'!$B$3,4,22),"ddd"),2)) | X5: =IF(MONTH(DATE('Year summary'!$B$3,4,23))<>4,"",LEFT(TEXT(DATE('Year summary'!$B$3,4,23),"ddd"),2)) | Y5: =IF(MONTH(DATE('Year summary'!$B$3,4,24))<>4,"",LEFT(TEXT(DATE('Year summary'!$B$3,4,24),"ddd"),2)) | Z5: =IF(MONTH(DATE('Year summary'!$B$3,4,25))<>4,"",LEFT(TEXT(DATE('Year summary'!$B$3,4,25),"ddd"),2)) | AA5: =IF(MONTH(DATE('Year summary'!$B$3,4,26))<>4,"",LEFT(TEXT(DATE('Year summary'!$B$3,4,26),"ddd"),2)) | AB5: =IF(MONTH(DATE('Year summary'!$B$3,4,27))<>4,"",LEFT(TEXT(DATE('Year summary'!$B$3,4,27),"ddd"),2)) | AC5: =IF(MONTH(DATE('Year summary'!$B$3,4,28))<>4,"",LEFT(TEXT(DATE('Year summary'!$B$3,4,28),"ddd"),2)) | AD5: =IF(MONTH(DATE('Year summary'!$B$3,4,29))<>4,"",LEFT(TEXT(DATE('Year summary'!$B$3,4,29),"ddd"),2)) | AE5: =IF(MONTH(DATE('Year summary'!$B$3,4,30))<>4,"",LEFT(TEXT(DATE('Year summary'!$B$3,4,30),"ddd"),2)) | AF5: =IF(MONTH(DATE('Year summary'!$B$3,4,31))<>4,"",LEFT(TEXT(DATE('Year summary'!$B$3,4,31),"ddd"),2))
A6: Holiday | B6: =IF(B$4="","",IF(COUNTIF('Year summary'!$A$30:$A$59,DATE('Year summary'!$B$3,4,1))>0,"H","")) | C6: =IF(C$4="","",IF(COUNTIF('Year summary'!$A$30:$A$59,DATE('Year summary'!$B$3,4,2))>0,"H","")) | D6: =IF(D$4="","",IF(COUNTIF('Year summary'!$A$30:$A$59,DATE('Year summary'!$B$3,4,3))>0,"H","")) | E6: =IF(E$4="","",IF(COUNTIF('Year summary'!$A$30:$A$59,DATE('Year summary'!$B$3,4,4))>0,"H","")) | F6: =IF(F$4="","",IF(COUNTIF('Year summary'!$A$30:$A$59,DATE('Year summary'!$B$3,4,5))>0,"H","")) | G6: =IF(G$4="","",IF(COUNTIF('Year summary'!$A$30:$A$59,DATE('Year summary'!$B$3,4,6))>0,"H","")) | H6: =IF(H$4="","",IF(COUNTIF('Year summary'!$A$30:$A$59,DATE('Year summary'!$B$3,4,7))>0,"H","")) | I6: =IF(I$4="","",IF(COUNTIF('Year summary'!$A$30:$A$59,DATE('Year summary'!$B$3,4,8))>0,"H","")) | J6: =IF(J$4="","",IF(COUNTIF('Year summary'!$A$30:$A$59,DATE('Year summary'!$B$3,4,9))>0,"H","")) | K6: =IF(K$4="","",IF(COUNTIF('Year summary'!$A$30:$A$59,DATE('Year summary'!$B$3,4,10))>0,"H","")) | L6: =IF(L$4="","",IF(COUNTIF('Year summary'!$A$30:$A$59,DATE('Year summary'!$B$3,4,11))>0,"H","")) | M6: =IF(M$4="","",IF(COUNTIF('Year summary'!$A$30:$A$59,DATE('Year summary'!$B$3,4,12))>0,"H","")) | N6: =IF(N$4="","",IF(COUNTIF('Year summary'!$A$30:$A$59,DATE('Year summary'!$B$3,4,13))>0,"H","")) | O6: =IF(O$4="","",IF(COUNTIF('Year summary'!$A$30:$A$59,DATE('Year summary'!$B$3,4,14))>0,"H","")) | P6: =IF(P$4="","",IF(COUNTIF('Year summary'!$A$30:$A$59,DATE('Year summary'!$B$3,4,15))>0,"H","")) | Q6: =IF(Q$4="","",IF(COUNTIF('Year summary'!$A$30:$A$59,DATE('Year summary'!$B$3,4,16))>0,"H","")) | R6: =IF(R$4="","",IF(COUNTIF('Year summary'!$A$30:$A$59,DATE('Year summary'!$B$3,4,17))>0,"H","")) | S6: =IF(S$4="","",IF(COUNTIF('Year summary'!$A$30:$A$59,DATE('Year summary'!$B$3,4,18))>0,"H","")) | T6: =IF(T$4="","",IF(COUNTIF('Year summary'!$A$30:$A$59,DATE('Year summary'!$B$3,4,19))>0,"H","")) | U6: =IF(U$4="","",IF(COUNTIF('Year summary'!$A$30:$A$59,DATE('Year summary'!$B$3,4,20))>0,"H","")) | V6: =IF(V$4="","",IF(COUNTIF('Year summary'!$A$30:$A$59,DATE('Year summary'!$B$3,4,21))>0,"H","")) | W6: =IF(W$4="","",IF(COUNTIF('Year summary'!$A$30:$A$59,DATE('Year summary'!$B$3,4,22))>0,"H","")) | X6: =IF(X$4="","",IF(COUNTIF('Year summary'!$A$30:$A$59,DATE('Year summary'!$B$3,4,23))>0,"H","")) | Y6: =IF(Y$4="","",IF(COUNTIF('Year summary'!$A$30:$A$59,DATE('Year summary'!$B$3,4,24))>0,"H","")) | Z6: =IF(Z$4="","",IF(COUNTIF('Year summary'!$A$30:$A$59,DATE('Year summary'!$B$3,4,25))>0,"H","")) | AA6: =IF(AA$4="","",IF(COUNTIF('Year summary'!$A$30:$A$59,DATE('Year summary'!$B$3,4,26))>0,"H","")) | AB6: =IF(AB$4="","",IF(COUNTIF('Year summary'!$A$30:$A$59,DATE('Year summary'!$B$3,4,27))>0,"H","")) | AC6: =IF(AC$4="","",IF(COUNTIF('Year summary'!$A$30:$A$59,DATE('Year summary'!$B$3,4,28))>0,"H","")) | AD6: =IF(AD$4="","",IF(COUNTIF('Year summary'!$A$30:$A$59,DATE('Year summary'!$B$3,4,29))>0,"H","")) | AE6: =IF(AE$4="","",IF(COUNTIF('Year summary'!$A$30:$A$59,DATE('Year summary'!$B$3,4,30))>0,"H","")) | AF6: =IF(AF$4="","",IF(COUNTIF('Year summary'!$A$30:$A$59,DATE('Year summary'!$B$3,4,31))>0,"H",""))
A7: =IF('Year summary'!A7="","",'Year summary'!A7) | AG7: =COUNTIF(B7:AF7,"V") | AH7: =COUNTIF(B7:AF7,"S") | AI7: =COUNTIF(B7:AF7,"P") | AJ7: =COUNTIF(B7:AF7,"F") | AK7: =COUNTIF(B7:AF7,"U")
A8: =IF('Year summary'!A8="","",'Year summary'!A8) | AG8: =COUNTIF(B8:AF8,"V") | AH8: =COUNTIF(B8:AF8,"S") | AI8: =COUNTIF(B8:AF8,"P") | AJ8: =COUNTIF(B8:AF8,"F") | AK8: =COUNTIF(B8:AF8,"U")
A9: =IF('Year summary'!A9="","",'Year summary'!A9) | AG9: =COUNTIF(B9:AF9,"V") | AH9: =COUNTIF(B9:AF9,"S") | AI9: =COUNTIF(B9:AF9,"P") | AJ9: =COUNTIF(B9:AF9,"F") | AK9: =COUNTIF(B9:AF9,"U")
A10: =IF('Year summary'!A10="","",'Year summary'!A10) | AG10: =COUNTIF(B10:AF10,"V") | AH10: =COUNTIF(B10:AF10,"S") | AI10: =COUNTIF(B10:AF10,"P") | AJ10: =COUNTIF(B10:AF10,"F") | AK10: =COUNTIF(B10:AF10,"U")
A11: =IF('Year summary'!A11="","",'Year summary'!A11) | AG11: =COUNTIF(B11:AF11,"V") | AH11: =COUNTIF(B11:AF11,"S") | AI11: =COUNTIF(B11:AF11,"P") | AJ11: =COUNTIF(B11:AF11,"F") | AK11: =COUNTIF(B11:AF11,"U")
A12: =IF('Year summary'!A12="","",'Year summary'!A12) | AG12: =COUNTIF(B12:AF12,"V") | AH12: =COUNTIF(B12:AF12,"S") | AI12: =COUNTIF(B12:AF12,"P") | AJ12: =COUNTIF(B12:AF12,"F") | AK12: =COUNTIF(B12:AF12,"U")
A13: =IF('Year summary'!A13="","",'Year summary'!A13) | AG13: =COUNTIF(B13:AF13,"V") | AH13: =COUNTIF(B13:AF13,"S") | AI13: =COUNTIF(B13:AF13,"P") | AJ13: =COUNTIF(B13:AF13,"F") | AK13: =COUNTIF(B13:AF13,"U")
A14: =IF('Year summary'!A14="","",'Year summary'!A14) | AG14: =COUNTIF(B14:AF14,"V") | AH14: =COUNTIF(B14:AF14,"S") | AI14: =COUNTIF(B14:AF14,"P") | AJ14: =COUNTIF(B14:AF14,"F") | AK14: =COUNTIF(B14:AF14,"U")
A15: =IF('Year summary'!A15="","",'Year summary'!A15) | AG15: =COUNTIF(B15:AF15,"V") | AH15: =COUNTIF(B15:AF15,"S") | AI15: =COUNTIF(B15:AF15,"P") | AJ15: =COUNTIF(B15:AF15,"F") | AK15: =COUNTIF(B15:AF15,"U")
A16: =IF('Year summary'!A16="","",'Year summary'!A16) | AG16: =COUNTIF(B16:AF16,"V") | AH16: =COUNTIF(B16:AF16,"S") | AI16: =COUNTIF(B16:AF16,"P") | AJ16: =COUNTIF(B16:AF16,"F") | AK16: =COUNTIF(B16:AF16,"U")
A17: =IF('Year summary'!A17="","",'Year summary'!A17) | AG17: =COUNTIF(B17:AF17,"V") | AH17: =COUNTIF(B17:AF17,"S") | AI17: =COUNTIF(B17:AF17,"P") | AJ17: =COUNTIF(B17:AF17,"F") | AK17: =COUNTIF(B17:AF17,"U")
A18: =IF('Year summary'!A18="","",'Year summary'!A18) | AG18: =COUNTIF(B18:AF18,"V") | AH18: =COUNTIF(B18:AF18,"S") | AI18: =COUNTIF(B18:AF18,"P") | AJ18: =COUNTIF(B18:AF18,"F") | AK18: =COUNTIF(B18:AF18,"U")
... A26: =IF('Year summary'!A26="","",'Year summary'!A26) | AG26: =COUNTIF(B26:AF26,"V") | AH26: =COUNTIF(B26:AF26,"S") | AI26: =COUNTIF(B26:AF26,"P") | AJ26: =COUNTIF(B26:AF26,"F") | AK26: =COUNTIF(B26:AF26,"U")
A27: People off | B27: =IF(B$4="","",COUNTA(B7:B26)) | C27: =IF(C$4="","",COUNTA(C7:C26)) | D27: =IF(D$4="","",COUNTA(D7:D26)) | E27: =IF(E$4="","",COUNTA(E7:E26)) | F27: =IF(F$4="","",COUNTA(F7:F26)) | G27: =IF(G$4="","",COUNTA(G7:G26)) | H27: =IF(H$4="","",COUNTA(H7:H26)) | I27: =IF(I$4="","",COUNTA(I7:I26)) | ... AF27: =IF(AF$4="","",COUNTA(AF7:AF26))
A29: Codes: V = Vacation or PTO S = Sick P = Personal F = FMLA or other leave U = Unpaid. Weekends and company holidays are shaded. 'People off' turns red at 3 or more.
A31: Free template from workzenly.com

Sheet May
A1: Team PTO calendar: May
A2: ='Year summary'!B3
A4: Employee | B4: =IF(MONTH(DATE('Year summary'!$B$3,5,1))<>5,"",1) | C4: =IF(MONTH(DATE('Year summary'!$B$3,5,2))<>5,"",2) | D4: =IF(MONTH(DATE('Year summary'!$B$3,5,3))<>5,"",3) | E4: =IF(MONTH(DATE('Year summary'!$B$3,5,4))<>5,"",4) | F4: =IF(MONTH(DATE('Year summary'!$B$3,5,5))<>5,"",5) | G4: =IF(MONTH(DATE('Year summary'!$B$3,5,6))<>5,"",6) | H4: =IF(MONTH(DATE('Year summary'!$B$3,5,7))<>5,"",7) | I4: =IF(MONTH(DATE('Year summary'!$B$3,5,8))<>5,"",8) | J4: =IF(MONTH(DATE('Year summary'!$B$3,5,9))<>5,"",9) | K4: =IF(MONTH(DATE('Year summary'!$B$3,5,10))<>5,"",10) | L4: =IF(MONTH(DATE('Year summary'!$B$3,5,11))<>5,"",11) | M4: =IF(MONTH(DATE('Year summary'!$B$3,5,12))<>5,"",12) | N4: =IF(MONTH(DATE('Year summary'!$B$3,5,13))<>5,"",13) | O4: =IF(MONTH(DATE('Year summary'!$B$3,5,14))<>5,"",14) | P4: =IF(MONTH(DATE('Year summary'!$B$3,5,15))<>5,"",15) | Q4: =IF(MONTH(DATE('Year summary'!$B$3,5,16))<>5,"",16) | R4: =IF(MONTH(DATE('Year summary'!$B$3,5,17))<>5,"",17) | S4: =IF(MONTH(DATE('Year summary'!$B$3,5,18))<>5,"",18) | T4: =IF(MONTH(DATE('Year summary'!$B$3,5,19))<>5,"",19) | U4: =IF(MONTH(DATE('Year summary'!$B$3,5,20))<>5,"",20) | V4: =IF(MONTH(DATE('Year summary'!$B$3,5,21))<>5,"",21) | W4: =IF(MONTH(DATE('Year summary'!$B$3,5,22))<>5,"",22) | X4: =IF(MONTH(DATE('Year summary'!$B$3,5,23))<>5,"",23) | Y4: =IF(MONTH(DATE('Year summary'!$B$3,5,24))<>5,"",24) | Z4: =IF(MONTH(DATE('Year summary'!$B$3,5,25))<>5,"",25) | AA4: =IF(MONTH(DATE('Year summary'!$B$3,5,26))<>5,"",26) | AB4: =IF(MONTH(DATE('Year summary'!$B$3,5,27))<>5,"",27) | AC4: =IF(MONTH(DATE('Year summary'!$B$3,5,28))<>5,"",28) | AD4: =IF(MONTH(DATE('Year summary'!$B$3,5,29))<>5,"",29) | AE4: =IF(MONTH(DATE('Year summary'!$B$3,5,30))<>5,"",30) | AF4: =IF(MONTH(DATE('Year summary'!$B$3,5,31))<>5,"",31) | AG4: V | AH4: S | AI4: P | AJ4: F | AK4: U
